BEGIN:VCALENDAR
VERSION:2.0
PRODID:-//Largest trading card shop in Switzerland - ECPv6.15.20//NONSGML v1.0//EN
CALSCALE:GREGORIAN
METHOD:PUBLISH
X-WR-CALNAME:Largest trading card shop in Switzerland
X-ORIGINAL-URL:https://theuncommonshop.ch/fr/
X-WR-CALDESC:Évènements pour Largest trading card shop in Switzerland
REFRESH-INTERVAL;VALUE=DURATION:PT1H
X-Robots-Tag:noindex
X-PUBLISHED-TTL:PT1H
BEGIN:VTIMEZONE
TZID:Europe/Zurich
BEGIN:DAYLIGHT
TZOFFSETFROM:+0100
TZOFFSETTO:+0200
TZNAME:CEST
DTSTART:20250330T010000
END:DAYLIGHT
BEGIN:STANDARD
TZOFFSETFROM:+0200
TZOFFSETTO:+0100
TZNAME:CET
DTSTART:20251026T010000
END:STANDARD
BEGIN:DAYLIGHT
TZOFFSETFROM:+0100
TZOFFSETTO:+0200
TZNAME:CEST
DTSTART:20260329T010000
END:DAYLIGHT
BEGIN:STANDARD
TZOFFSETFROM:+0200
TZOFFSETTO:+0100
TZNAME:CET
DTSTART:20261025T010000
END:STANDARD
BEGIN:DAYLIGHT
TZOFFSETFROM:+0100
TZOFFSETTO:+0200
TZNAME:CEST
DTSTART:20270328T010000
END:DAYLIGHT
BEGIN:STANDARD
TZOFFSETFROM:+0200
TZOFFSETTO:+0100
TZNAME:CET
DTSTART:20271031T010000
END:STANDARD
END:VTIMEZONE
BEGIN:VEVENT
DTSTART;TZID=Europe/Zurich:20260424T000000
DTEND;TZID=Europe/Zurich:20260424T235959
DTSTAMP:20260424T095818
CREATED:20260129T084247Z
LAST-MODIFIED:20260328T114902Z
UID:10004605-1776988800-1777075199@theuncommonshop.ch
SUMMARY:Pokémon - Mega Evolution - Ascended Heroes (ME2.5) - Booster Bundle (DE\, EN\, FR)
DESCRIPTION:6 Boosters Pokémon TCG
URL:https://theuncommonshop.ch/fr/event/pokemon-mega-evolution-ascended-heroes-me2-5-booster-bundle-de-en-fr/
CATEGORIES:Communiqués de presse
ATTACH;FMTTYPE=image/jpeg:https://theuncommonshop.ch/wp-content/uploads/2026/01/5394339341.jpg
ORGANIZER;CN="The Uncommon Shop":MAILTO:info@theuncommonshop.ch
END:VEVENT
BEGIN:VEVENT
DTSTART;TZID=Europe/Zurich:20260424T000000
DTEND;TZID=Europe/Zurich:20260424T235959
DTSTAMP:20260424T095818
CREATED:20260206T211123Z
LAST-MODIFIED:20260329T172844Z
UID:10002668-1776988800-1777075199@theuncommonshop.ch
SUMMARY:Pokémon - Mega Evolution - Ascended Heroes (ME2.5) - ex Box (DE\, EN\, FR)
DESCRIPTION:Le retour des Mega Developments ! Obtenez la puissance concentrée des favoris des fans dans la nouvelle ex Box Ascended Heroes (ME2.5). Choisissez parmi les trois Starters légendaires et faites passer votre deck au niveau supérieur !  \nAperçu des points forts :\n\nPromo exclusive : 1 carte holographique (Mega-Meganie-ex\, Mega-Flambirex-ex ou Mega-Impergator-ex).\nEffet 3D : 1 carte lenticulaire XXL avec un effet d’image vacillante impressionnant.\nBooster Power : 4 Booster Packs du set spécial Ascended Heroes (non disponibles en présentoirs individuels !).\nNumérique : 1 carte de code pour le jeu de cartes à collectionner Pokémon en direct.\n\nChoisissez votre favori : Plante\, feu ou eau – chaque boîte contient des artworks exclusifs et vous donne la chance de gagner les nouveaux Rares Mega Attack extrêmement rares.
URL:https://theuncommonshop.ch/fr/event/pokemon-mega-evolution-me2-5-ascended-heroes-ex-box-de-en-fr/
CATEGORIES:Communiqués de presse
ATTACH;FMTTYPE=image/webp:https://theuncommonshop.ch/wp-content/uploads/2026/02/MEG11.webp
ORGANIZER;CN="The Uncommon Shop":MAILTO:info@theuncommonshop.ch
END:VEVENT
BEGIN:VEVENT
DTSTART;TZID=Europe/Zurich:20260424T000000
DTEND;TZID=Europe/Zurich:20260424T235959
DTSTAMP:20260424T095818
CREATED:20260207T184431Z
LAST-MODIFIED:20260402T122248Z
UID:10002679-1776988800-1777075199@theuncommonshop.ch
SUMMARY:Magic - Secrets of Strixhaven (SOS) - Play Booster Display (DE\, EN)
DESCRIPTION:Les Boosters de jeu sont le meilleur moyen de découvrir ce que Magic : The Gathering a à offrir. Ils sont parfaits pour construire des decks\, jouer des parties limitées avec des amis et s’amuser à les ouvrir. Que les joueurs drafteront avec leurs amis\, qu’ils chercheront à s’amuser avec des Boosters ou qu’ils voudront simplement agrandir leur collection\, les Boosters de jeu ont quelque chose à offrir à chacun.   \nEn savoir plus sur Secrets of Strixhaven \nRetournez à Strixhaven\, la célèbre école de magie de Magic\, et découvrez des années de secrets en explorant ses couloirs sacrés et au-delà. Les cinq collèges sont de retour\, chacun avec son apparence\, son ambiance et sa spécialité magique uniques.  Améliorez vos compétences\, faites des découvertes académiques et prouvez que votre université est la meilleure\, mais attention – les connaissances de deuxième année impliquent également des risques accrus. \nContenu : \n\n30 Secrets of Strixhaven Booster de jeu\n14 cartes Magic : The Gathering\nPeut contenir les cartes suivantes : SOS 1-305 ; SOA 1-65 ; SPG 149-158\n1-5 cartes de rareté “Rare” ou plus (2 : 33 % ; 3 : 6 % ; 4-5 : <1 %)\n3-6 cartes inhabituelles\n5-8 cartes ordinaires\n1 carte géographique\n1 carte de n’importe quelle rareté est une carte folio traditionnelle\nCarte transparente sans marge “Mythique” dans <1 % des Boosters\nLa carte à diapositives traditionnelle “Pays” remplace une carte géographique dans 20 % des Boosters
URL:https://theuncommonshop.ch/fr/event/magic-secrets-of-strixhaven-play-booster-display-fr/
CATEGORIES:Communiqués de presse
ATTACH;FMTTYPE=image/png:https://theuncommonshop.ch/wp-content/uploads/2026/02/StrixPlayDisplay.png
ORGANIZER;CN="The Uncommon Shop":MAILTO:info@theuncommonshop.ch
END:VEVENT
BEGIN:VEVENT
DTSTART;TZID=Europe/Zurich:20260424T000000
DTEND;TZID=Europe/Zurich:20260424T235959
DTSTAMP:20260424T095818
CREATED:20260207T185927Z
LAST-MODIFIED:20260329T132337Z
UID:10002686-1776988800-1777075199@theuncommonshop.ch
SUMMARY:Magic - Secrets of Strixhaven (SOS) - Collector Booster Display (DE\, EN)
DESCRIPTION:Les Boosters Collector de Secrets of Strixhaven sont le moyen ultime d’ajouter des styles de cartes uniques à votre livre de sorts. Chaque Booster contient plusieurs cartes rares et/ou mythiques rares\, de nombreuses cartes Foil\, une carte Basic Land avec une illustration plein écran et des cartes Mystical Archive avec de nouvelles illustrations et de nouveaux cadres accrocheurs. Il se peut même que vous découvriez quelques surprises tout au fond du paquet\, comme des styles de cartes exclusifs pour les Collector Booster\, des finitions Foil spéciales ou la trouvaille ultime : une carte Headliner sérialisée.   \nEn savoir plus sur Secrets of Strixhaven \nRetournez à Strixhaven\, la célèbre académie de magie de Magic\, et découvrez des années de secrets en explorant ses couloirs sacrés et au-delà. Les cinq collèges sont de retour\, chacun avec sa propre apparence unique\, son flair et sa concentration magique. Améliorez vos compétences\, faites des découvertes académiques et prouvez que votre faculté est la meilleure\, mais attention – les connaissances de deuxième année impliquent également des dangers accrus.   \nContenu : \n\n12 Collector Booster “Les secrets de Strixhaven\nChaque Collector Booster contient 15 cartes Magic : The Gathering. Peut contenir les cartes suivantes : SOS 1-271\, 282-362 ; SOC 1-10\, 61-108 ; SOA 1-195 ; SPG 149-158 \nContient 5 cartes de rareté “Rare” ou supérieure\n5 cartes inhabituelles\n4 cartes ordinaires\n1 Pays\nHeadliner Mythic dans <1 % des Boosters
URL:https://theuncommonshop.ch/fr/event/magic-secrets-of-strixhaven-sos-collector-booster-display-de-en/
CATEGORIES:Communiqués de presse
ATTACH;FMTTYPE=image/png:https://theuncommonshop.ch/wp-content/uploads/2026/02/SecOfStrixhavenCollectorDisplay.png
ORGANIZER;CN="The Uncommon Shop":MAILTO:info@theuncommonshop.ch
END:VEVENT
BEGIN:VEVENT
DTSTART;TZID=Europe/Zurich:20260424T000000
DTEND;TZID=Europe/Zurich:20260424T235959
DTSTAMP:20260424T095818
CREATED:20260207T193321Z
LAST-MODIFIED:20260329T182213Z
UID:10002688-1776988800-1777075199@theuncommonshop.ch
SUMMARY:Magic - Secrets of Strixhaven (SOS) - Commander Deck (DE\, EN)
DESCRIPTION:Plongez dans le format multijoueur le plus populaire de Magic avec cinq decks de 100 cartes prêts à jouer\, chacun avec un style de jeu bicolore unique. Choisissez votre collège magique et élargissez votre formation dans le vaste monde d’Arcavios. Chaque deck Secrets of Strixhaven Commander Deck contient deux cartes de créatures mythiques traditionnelles rares et légendaires avec une illustration sans bordure qui peuvent être jouées en tant que Commander\, et chaque deck contient 12 cartes de Commander inédites pour Magic : The Gathering.   \nContenu : \n\n1 deck prêt à jouer de 100 cartes Magic 12 nouvelles cartes Magic\, dont 2 cartes Foil traditionnelles\n10 cartes jetons double face\nBoîte de pont\nSupplément stratégique\nCarte de référence
URL:https://theuncommonshop.ch/fr/event/magic-secrets-of-strixhaven-commander-deck-de-en/
CATEGORIES:Communiqués de presse
ATTACH;FMTTYPE=image/png:https://theuncommonshop.ch/wp-content/uploads/2026/02/COM1.png
ORGANIZER;CN="The Uncommon Shop":MAILTO:info@theuncommonshop.ch
END:VEVENT
BEGIN:VEVENT
DTSTART;TZID=Europe/Zurich:20260424T000000
DTEND;TZID=Europe/Zurich:20260424T235959
DTSTAMP:20260424T095818
CREATED:20260207T194041Z
LAST-MODIFIED:20260329T160354Z
UID:10002680-1776988800-1777075199@theuncommonshop.ch
SUMMARY:Magic - Secrets of Strixhaven (SOS) - Bundle (DE\, EN)
DESCRIPTION:Retournez à l’école avec un bundle de cartes et d’accessoires de jeu exclusifs. Ce Bundle est parfait pour la constitution de decks\, pour les jeux limités et il est très amusant à ouvrir. Il contient neuf Play Boosters avec au moins une carte Foil traditionnelle et la possibilité de trouver plusieurs cartes rares dans chaque Pack.   \nCe Bundle est un excellent cadeau pour les fans de Magic et les novices qui visitent votre magasin. Il contient un peu de tout ce dont un joueur a besoin pour constituer sa collection\, ainsi qu’une solide boîte de rangement Secrets of Strixhaven et un compteur de points de vie Spindown™ surdimensionné\, à l’image du set.  \nEn savoir plus sur Secrets of Strixhaven \nRetournez à Strixhaven\, la célèbre école de magie de Magic\, et découvrez des années de secrets en explorant ses couloirs sacrés et au-delà. Les cinq collèges sont de retour\, chacun avec son apparence\, son ambiance et sa spécialité magique uniques.  Améliorez vos compétences\, faites des découvertes académiques et prouvez que votre université est la meilleure\, mais attention – les connaissances de deuxième année impliquent également des risques accrus. \nContenu : \n\nContient 9 packs de boosters “Secrets de Strixhaven”.\nChaque booster pack contient 14 cartes Magic : The Gathering.\nPeut contenir les cartes suivantes : SOS 1-305 ; SOA 1-65 ; SPG 149-158.\n1-5 cartes de rareté “Rare” ou supérieure (2 : 33 % ; 3 : 6 % ; 4-5 : <1 %).\n3-6 cartes inhabituelles\n5-8 cartes ordinaires\n1 carte géographique\n1 carte de n’importe quelle rareté est une carte folio traditionnelle\nCarte transparente sans marge Mythic dans <1 % des Boosters\nLa carte à diapositives traditionnelle Pays remplace une carte géographique dans 20 % des Boosters\n15 cartes non transparentes\n15 cartes transparentes\n1 carte promotionnelle\nAffichage de la vie surdimensionné de Spindown
URL:https://theuncommonshop.ch/fr/event/magic-secrets-of-strixhaven-sos-bundle-de-en/
CATEGORIES:Communiqués de presse
ATTACH;FMTTYPE=image/png:https://theuncommonshop.ch/wp-content/uploads/2026/02/BUND1.png
ORGANIZER;CN="The Uncommon Shop":MAILTO:info@theuncommonshop.ch
END:VEVENT
BEGIN:VEVENT
DTSTART;TZID=Europe/Zurich:20260424T000000
DTEND;TZID=Europe/Zurich:20260424T235959
DTSTAMP:20260424T095818
CREATED:20260207T201915Z
LAST-MODIFIED:20260329T160425Z
UID:10002684-1776988800-1777075199@theuncommonshop.ch
SUMMARY:Magic - Secrets of Strixhaven (SOS) - Draft Night
DESCRIPTION:Magic – Secrets of Strixhaven (SOS) – Draft Night \nC’est une fête de draft dans une boîte ! Draft Night contient tout ce dont vous avez besoin pour un draft Pick-Two avec seulement quatre joueurs. Pick-Two favorise un drafting rapide et dynamique\, idéal pour jouer à la table de la cuisine ou pour varier les plaisirs lors d’une soirée de jeu. Mettez Secrets of Strixhaven sur la table et passez une soirée de jeu inoubliable !    \nContenu : \n\nContient 12 Boosters Secrets of Strixhaven Play\nChaque Booster de jeu contient 14 cartes Magic : The Gathering.\nPeut contenir les cartes suivantes : SOS 1-305 ; SOA 1-65 ; SPG 149-158\n1-5 cartes de rareté “Rare” ou plus (2 : 33 % ; 3 : 6 % ; 4-5 : <1 %)\n3-6 cartes inhabituelles\n5-8 cartes ordinaires\n1 carte géographique\n1 carte de n’importe quelle rareté est une carte folio traditionnelle\nCarte transparente sans marge Mythic dans <1 % des Boosters\nLa carte à diapositives traditionnelle Pays remplace une carte géographique dans 20 % des Boosters\nInclut 1 Collector Booster Secrets of Strixhaven\nChaque Collector Booster contient 15 cartes Magic : The Gathering.\nPeut contenir les cartes suivantes : SOS 1-271\, 282-362 ; SOC 1-10\, 61-108 ; SOA 1-195 ; SPG 149-158\nContient 5 cartes de rareté “Rare” ou supérieure\n5 cartes inhabituelles\n4 cartes ordinaires\n1 Pays\nHeadliner Mythic dans <1 % des Boosters\n90 cartes géographiques
URL:https://theuncommonshop.ch/fr/event/magic-secrets-of-strixhaven-draft-night/
CATEGORIES:Communiqués de presse
ATTACH;FMTTYPE=image/png:https://theuncommonshop.ch/wp-content/uploads/2026/02/DRAFt1.png
ORGANIZER;CN="Product Releases":MAILTO:info@theuncommonshop.ch
END:VEVENT
BEGIN:VEVENT
DTSTART;TZID=Europe/Zurich:20260424T000000
DTEND;TZID=Europe/Zurich:20260424T235959
DTSTAMP:20260424T095818
CREATED:20260207T204007Z
LAST-MODIFIED:20260329T182310Z
UID:10002692-1776988800-1777075199@theuncommonshop.ch
SUMMARY:Magic - Secrets of Strixhaven (SOS) - 60 Card Theme Deck
DESCRIPTION:Lancez-vous dans des batailles passionnantes et thématiques avec un deck de 60 cartes prédéfinies ! Devenez le grinçant sous les planches avec “Eerie”\, qui vous récompense pour avoir joué des enchantements et débloqué des salles. Faites peur à votre adversaire avec un train explosif qui crée un immense terrain de jeu à partir de rien !   \nContenu : \n\n60 cartes Magic : The Gathering prêtes au combat\n5 cartes jetons double face\nBoîte du jeu de cartes\nCarte de référence\nSupplément stratégique
URL:https://theuncommonshop.ch/fr/event/magic-secrets-of-strixhaven-60-card-theme-deck-set/
CATEGORIES:Communiqués de presse
ATTACH;FMTTYPE=image/png:https://theuncommonshop.ch/wp-content/uploads/2026/02/DECK1.png
ORGANIZER;CN="The Uncommon Shop":MAILTO:info@theuncommonshop.ch
END:VEVENT
BEGIN:VEVENT
DTSTART;TZID=Europe/Zurich:20260424T000000
DTEND;TZID=Europe/Zurich:20260424T235959
DTSTAMP:20260424T095818
CREATED:20260207T205505Z
LAST-MODIFIED:20260330T084732Z
UID:10002697-1776988800-1777075199@theuncommonshop.ch
SUMMARY:Magic - Secrets of Strixhaven (SOS) - Play Booster Packs (DE\, EN)
DESCRIPTION:Les Boosters de jeu sont le meilleur moyen de découvrir ce que Magic : The Gathering a à offrir. Ils sont parfaits pour construire des decks\, jouer des parties limitées avec des amis et s’amuser à les ouvrir. Que les joueurs drafteront avec leurs amis\, qu’ils chercheront à s’amuser avec des Boosters ou qu’ils voudront simplement agrandir leur collection\, les Boosters de jeu ont quelque chose à offrir à chacun.   \nEn savoir plus sur Secrets of Strixhaven \nRetournez à Strixhaven\, la célèbre école de magie de Magic\, et découvrez des années de secrets en explorant ses couloirs sacrés et au-delà. Les cinq collèges sont de retour\, chacun avec son apparence\, son ambiance et sa spécialité magique uniques.  Améliorez vos compétences\, faites des découvertes académiques et prouvez que votre université est la meilleure\, mais attention – les connaissances de deuxième année impliquent également des risques accrus. \nContenu : \n\n14 cartes Magic : The Gathering\nPeut contenir les cartes suivantes : SOS 1-305 ; SOA 1-65 ; SPG 149-158\n1-5 cartes de rareté “Rare” ou plus (2 : 33 % ; 3 : 6 % ; 4-5 : <1 %)\n3-6 cartes inhabituelles\n5-8 cartes ordinaires\n1 carte géographique\n1 carte de n’importe quelle rareté est une carte folio traditionnelle\nCarte transparente sans marge “Mythique” dans <1 % des Boosters\nLa carte à diapositives traditionnelle “Pays” remplace une carte géographique dans 20 % des Boosters
URL:https://theuncommonshop.ch/fr/event/magic-secrets-of-strixhaven-play-booster-pack-de-en/
CATEGORIES:Communiqués de presse
ATTACH;FMTTYPE=image/png:https://theuncommonshop.ch/wp-content/uploads/2026/02/STrixBooster1.png
ORGANIZER;CN="The Uncommon Shop":MAILTO:info@theuncommonshop.ch
END:VEVENT
BEGIN:VEVENT
DTSTART;TZID=Europe/Zurich:20260424T000000
DTEND;TZID=Europe/Zurich:20260424T235959
DTSTAMP:20260424T095818
CREATED:20260207T210901Z
LAST-MODIFIED:20260330T084753Z
UID:10002690-1776988800-1777075199@theuncommonshop.ch
SUMMARY:Magic - Secrets of Strixhaven (SOS) - Collector Booster Pack (DE\, EN)
DESCRIPTION:Les Boosters Collector de Secrets of Strixhaven sont le moyen ultime d’ajouter des styles de cartes uniques à votre livre de sorts. Chaque Booster contient plusieurs cartes rares et/ou mythiques rares\, de nombreuses cartes Foil\, une carte Basic Land avec une illustration plein écran et des cartes Mystical Archive avec de nouvelles illustrations et de nouveaux cadres accrocheurs. Il se peut même que vous découvriez quelques surprises tout au fond du paquet\, comme des styles de cartes exclusifs pour les Collector Booster\, des finitions Foil spéciales ou la trouvaille ultime : une carte Headliner sérialisée.   \nEn savoir plus sur Secrets of Strixhaven \nRetournez à Strixhaven\, la célèbre académie de magie de Magic\, et découvrez des années de secrets en explorant ses couloirs sacrés et au-delà. Les cinq collèges sont de retour\, chacun avec sa propre apparence unique\, son flair et sa concentration magique. Améliorez vos compétences\, faites des découvertes académiques et prouvez que votre faculté est la meilleure\, mais attention – les connaissances de deuxième année impliquent également des dangers accrus.   \nContenu : \n\nChaque Collector Booster contient 15 cartes Magic : The Gathering. Peut contenir les cartes suivantes : SOS 1-271\, 282-362 ; SOC 1-10\, 61-108 ; SOA 1-195 ; SPG 149-158 \nContient 5 cartes de rareté “Rare” ou supérieure\n5 cartes inhabituelles\n4 cartes ordinaires\n1 Pays\nHeadliner Mythic dans <1 % des Boosters
URL:https://theuncommonshop.ch/fr/event/magic-secrets-of-strixhaven-sos-collector-booster-pack-de-en/
CATEGORIES:Communiqués de presse
ATTACH;FMTTYPE=image/png:https://theuncommonshop.ch/wp-content/uploads/2026/02/STrixhaven4.png
ORGANIZER;CN="The Uncommon Shop":MAILTO:info@theuncommonshop.ch
END:VEVENT
BEGIN:VEVENT
DTSTART;TZID=Europe/Zurich:20260424T000000
DTEND;TZID=Europe/Zurich:20260424T235959
DTSTAMP:20260424T095818
CREATED:20260308T155302Z
LAST-MODIFIED:20260308T155302Z
UID:10003319-1776988800-1777075199@theuncommonshop.ch
SUMMARY:Magic - Secrets of Strixhaven (SOS) - Draft Night
DESCRIPTION:Magic – Secrets of Strixhaven (SOS) – Draft Night \nC’est une fête de draft dans une boîte ! Draft Night contient tout ce dont vous avez besoin pour un draft Pick-Two avec seulement quatre joueurs. Pick-Two favorise un drafting rapide et dynamique\, idéal pour jouer à la table de la cuisine ou pour varier les plaisirs lors d’une soirée de jeu. Mettez Secrets of Strixhaven sur la table et passez une soirée de jeu inoubliable !      \nContenu : \n\nContient 12 Boosters Secrets of Strixhaven Play\nChaque Booster de jeu contient 14 cartes Magic : The Gathering.\nPeut contenir les cartes suivantes : SOS 1-305 ; SOA 1-65 ; SPG 149-158\n1-5 cartes de rareté “Rares” ou plus (2 : 33 % ; 3 : 6 % ; 4-5 : <1 %)\n3-6 cartes inhabituelles\n5-8 cartes ordinaires\n1 carte géographique\n1 carte de n’importe quelle rareté est une carte folio traditionnelle\nCarte transparente sans marge Mythic dans <1 % des Boosters\nLa carte à diapositives traditionnelle Pays remplace une carte géographique dans 20 % des Boosters\nInclut 1 Collector Booster Secrets of Strixhaven\nChaque Collector Booster contient 15 cartes Magic : The Gathering.\nPeut contenir les cartes suivantes : SOS 1-271\, 282-362 ; SOC 1-10\, 61-108 ; SOA 1-195 ; SPG 149-158\nContient 5 cartes de rareté “Rare” ou supérieure\n5 cartes inhabituelles\n4 cartes ordinaires\n1 Pays\nHeadliner Mythic dans <1 % des Boosters\n90 cartes géographiques
URL:https://theuncommonshop.ch/fr/event/magic-secrets-of-strixhaven-sos-draft-night/
ATTACH;FMTTYPE=image/png:https://theuncommonshop.ch/wp-content/uploads/2026/02/DRAFt1.png
ORGANIZER;CN="Product Releases":MAILTO:info@theuncommonshop.ch
END:VEVENT
BEGIN:VEVENT
DTSTART;TZID=Europe/Zurich:20260424T000000
DTEND;TZID=Europe/Zurich:20260424T235959
DTSTAMP:20260424T095818
CREATED:20260329T192847Z
LAST-MODIFIED:20260329T192922Z
UID:10007800-1776988800-1777075199@theuncommonshop.ch
SUMMARY:Gundam Card Game - Booster Display - GD04 - EN (EN)
DESCRIPTION:Début d’une nouvelle série \nLes personnages et les mobiles suits de la nouvelle série Gundam complètent la gamme GCG tout en élargissant les decks des sets précédents. \nConvient aux collectionneurs \nContient une grande variété de cartes avec des motifs alternatifs dans différents niveaux de rareté pour les joueurs et les collectionneurs. \nUn gameplay dynamique \nDe nouvelles stratégies et mécaniques permettent un gameplay passionnant basé sur l’habileté. \nRareté des cartes \n50 Common \n36 Uncommon \n32 Rares \n12 Legend Rare \n5 Spécial \n6 jetons \n10 Ressource \nTOTAL : 135+16 types de cartes (avec 44 designs alternatifs parmi les types mentionnés ci-dessus) \nConfiguration \n1 Booster Packs = 12 cartes + 1 jeton/ressource \n1 présentoir = 24 Packs
URL:https://theuncommonshop.ch/fr/event/gundam-card-game-booster-display-gd04-en-en/
CATEGORIES:Communiqués de presse
ATTACH;FMTTYPE=image/webp:https://theuncommonshop.ch/wp-content/uploads/2025/12/GD04.webp
ORGANIZER;CN="Product Releases":MAILTO:info@theuncommonshop.ch
END:VEVENT
BEGIN:VEVENT
DTSTART;TZID=Europe/Zurich:20260424T170000
DTEND;TZID=Europe/Zurich:20260424T230000
DTSTAMP:20260424T095818
CREATED:20260319T110738Z
LAST-MODIFIED:20260325T125430Z
UID:10006920-1777050000-1777071600@theuncommonshop.ch
SUMMARY:Friday Night Magic
DESCRIPTION:Chaque vendredi\, c’est la Commander Night dans les magasins Uncommon de Romanshorn et Schaffhouse. Passez nous voir !
URL:https://theuncommonshop.ch/fr/event/friday-night-magic-4/2026-04-24/
LOCATION:The Uncommon Shop Romanshorn & Schaffhausen\, Bahnhofstrasse 16 / Beckenstube 2\, Romanshorn / Schaffhausen\, 8590 / 8200
CATEGORIES:Tournois
ATTACH;FMTTYPE=image/jpeg:https://theuncommonshop.ch/wp-content/uploads/2025/12/Kalender-Anzeige-1.jpg
ORGANIZER;CN="The Uncommon Shop GmbH":MAILTO:info@theuncommonshop.ch
END:VEVENT
BEGIN:VEVENT
DTSTART;TZID=Europe/Zurich:20260424T190000
DTEND;TZID=Europe/Zurich:20260424T223000
DTSTAMP:20260424T095818
CREATED:20260319T110115Z
LAST-MODIFIED:20260325T125430Z
UID:10006133-1777057200-1777069800@theuncommonshop.ch
SUMMARY:Livestream Twitch
DESCRIPTION:
URL:https://theuncommonshop.ch/fr/event/livestream-twitch-4/2026-04-24/
CATEGORIES:Flux en direct
ATTACH;FMTTYPE=image/jpeg:https://theuncommonshop.ch/wp-content/uploads/2026/01/5.jpg
ORGANIZER;CN="The Uncommon Shop GmbH":MAILTO:info@theuncommonshop.ch
END:VEVENT
END:VCALENDAR