BEGIN:VCALENDAR
VERSION:2.0
PRODID:-//Largest trading card shop in Switzerland - ECPv6.15.20//NONSGML v1.0//EN
CALSCALE:GREGORIAN
METHOD:PUBLISH
X-ORIGINAL-URL:https://theuncommonshop.ch/fr/
X-WR-CALDESC:Évènements pour Largest trading card shop in Switzerland
REFRESH-INTERVAL;VALUE=DURATION:PT1H
X-Robots-Tag:noindex
X-PUBLISHED-TTL:PT1H
BEGIN:VTIMEZONE
TZID:Europe/Zurich
BEGIN:DAYLIGHT
TZOFFSETFROM:+0100
TZOFFSETTO:+0200
TZNAME:CEST
DTSTART:20290325T010000
END:DAYLIGHT
BEGIN:STANDARD
TZOFFSETFROM:+0200
TZOFFSETTO:+0100
TZNAME:CET
DTSTART:20291028T010000
END:STANDARD
BEGIN:DAYLIGHT
TZOFFSETFROM:+0100
TZOFFSETTO:+0200
TZNAME:CEST
DTSTART:20300331T010000
END:DAYLIGHT
BEGIN:STANDARD
TZOFFSETFROM:+0200
TZOFFSETTO:+0100
TZNAME:CET
DTSTART:20301027T010000
END:STANDARD
BEGIN:DAYLIGHT
TZOFFSETFROM:+0100
TZOFFSETTO:+0200
TZNAME:CEST
DTSTART:20310330T010000
END:DAYLIGHT
BEGIN:STANDARD
TZOFFSETFROM:+0200
TZOFFSETTO:+0100
TZNAME:CET
DTSTART:20311026T010000
END:STANDARD
END:VTIMEZONE
BEGIN:VEVENT
DTSTART;TZID=Europe/Zurich:20301115T180000
DTEND;TZID=Europe/Zurich:20301115T210000
DTSTAMP:20260420T115004
CREATED:20260330T143048Z
LAST-MODIFIED:20260330T143112Z
UID:10009413-1920996000-1921006800@theuncommonshop.ch
SUMMARY:Dragonball TCG Tournament Event
DESCRIPTION:Préparer Bandai TCG Plus pour la connexion
URL:https://theuncommonshop.ch/fr/event/dragonball-tcg-tournament-event/2030-11-15/
CATEGORIES:Tournois
ATTACH;FMTTYPE=image/png:https://theuncommonshop.ch/wp-content/uploads/2026/03/9.png
END:VEVENT
BEGIN:VEVENT
DTSTART;TZID=Europe/Zurich:20301115T190000
DTEND;TZID=Europe/Zurich:20301115T223000
DTSTAMP:20260420T115004
CREATED:20260319T110115Z
LAST-MODIFIED:20260325T125430Z
UID:10006371-1920999600-1921012200@theuncommonshop.ch
SUMMARY:Livestream Twitch
DESCRIPTION:
URL:https://theuncommonshop.ch/fr/event/livestream-twitch-4/2030-11-15/
CATEGORIES:Flux en direct
ATTACH;FMTTYPE=image/jpeg:https://theuncommonshop.ch/wp-content/uploads/2026/01/5.jpg
ORGANIZER;CN="The Uncommon Shop GmbH":MAILTO:info@theuncommonshop.ch
END:VEVENT
BEGIN:VEVENT
DTSTART;TZID=Europe/Zurich:20301116T124500
DTEND;TZID=Europe/Zurich:20301116T180000
DTSTAMP:20260420T115004
CREATED:20260319T110424Z
LAST-MODIFIED:20260325T125430Z
UID:10006634-1921063500-1921082400@theuncommonshop.ch
SUMMARY:Yu-Gi-Oh ! Locaux
DESCRIPTION:-Propre deck -Konami ID -PORTANT !!!!! Chaque joueur reçoit à l’entrée : 2x boosters des derniers sets 1x OTS Par participant\, 2x boosters des derniers sets de base sont ajoutés à la cagnotte qui sera ensuite répartie entre les 3 premières places. A partir de 10 joueurs\, un présentoir est ajouté à la cagnotte et pour chaque joueur supplémentaire\, deux boosters supplémentaires sont ajoutés à la cagnotte. Distribution des prix
URL:https://theuncommonshop.ch/fr/event/yu-gi-oh-locaux-2/2030-11-16/
LOCATION:The Uncommon Shop Romanshorn\, Bahnhofstrasse 16 / Alleestrasse 25\, Romanshorn\, 8590
CATEGORIES:Tournois
ATTACH;FMTTYPE=image/jpeg:https://theuncommonshop.ch/wp-content/uploads/2025/12/3.jpg
ORGANIZER;CN="The Uncommon Shop GmbH":MAILTO:info@theuncommonshop.ch
END:VEVENT
BEGIN:VEVENT
DTSTART;TZID=Europe/Zurich:20301116T130000
DTEND;TZID=Europe/Zurich:20301116T180000
DTSTAMP:20260420T115004
CREATED:20251218T095011Z
LAST-MODIFIED:20260416T070758Z
UID:10005458-1921064400-1921082400@theuncommonshop.ch
SUMMARY:Tournoi One Piece
DESCRIPTION:\nVous trouverez toutes les informations utiles dans notre groupe WhatsApp One Piece : \nRomanshorn: 13:00 – 18:00 (Open End) https://chat.whatsapp.com/KSo3Q4YmJlU5FXSZtvpThG \nSchaffhausen: 13:30 – 17:00 \n\n \n\n  
URL:https://theuncommonshop.ch/fr/event/tournoi-one-piece/2030-11-16/
LOCATION:The Uncommon Shop Romanshorn\, Bahnhofstrasse 16 / Alleestrasse 25\, Romanshorn\, 8590
CATEGORIES:Tournois
ATTACH;FMTTYPE=image/jpeg:https://theuncommonshop.ch/wp-content/uploads/2025/12/One-piece.jpg
ORGANIZER;CN="The Uncommon Shop GmbH":MAILTO:info@theuncommonshop.ch
END:VEVENT
BEGIN:VEVENT
DTSTART;TZID=Europe/Zurich:20301121T190000
DTEND;TZID=Europe/Zurich:20301121T210000
DTSTAMP:20260420T115004
CREATED:20260416T065956Z
LAST-MODIFIED:20260416T065956Z
UID:10010832-1921518000-1921525200@theuncommonshop.ch
SUMMARY:One Piece Turnier Schaffhausen
DESCRIPTION:19:00-21:00 (Open End)
URL:https://theuncommonshop.ch/fr/event/one-piece-turnier-schaffhausen/2030-11-21/
LOCATION:The Uncommon Shop Schaffhausen\, Beckenstube 2\, Schaffhausen\, 8200\, Switzerland
CATEGORIES:Tournois
ATTACH;FMTTYPE=image/jpeg:https://theuncommonshop.ch/wp-content/uploads/2025/12/One-piece.jpg
ORGANIZER;CN="The Uncommon Shop GmbH":MAILTO:info@theuncommonshop.ch
END:VEVENT
BEGIN:VEVENT
DTSTART;TZID=Europe/Zurich:20301122T170000
DTEND;TZID=Europe/Zurich:20301122T230000
DTSTAMP:20260420T115004
CREATED:20260319T110738Z
LAST-MODIFIED:20260325T125430Z
UID:10007159-1921597200-1921618800@theuncommonshop.ch
SUMMARY:Friday Night Magic
DESCRIPTION:Chaque vendredi\, c’est la Commander Night dans les magasins Uncommon de Romanshorn et Schaffhouse. Passez nous voir !
URL:https://theuncommonshop.ch/fr/event/friday-night-magic-4/2030-11-22/
LOCATION:The Uncommon Shop Romanshorn & Schaffhausen\, Bahnhofstrasse 16 / Beckenstube 2\, Romanshorn / Schaffhausen\, 8590 / 8200
CATEGORIES:Tournois
ATTACH;FMTTYPE=image/jpeg:https://theuncommonshop.ch/wp-content/uploads/2025/12/Kalender-Anzeige-1.jpg
ORGANIZER;CN="The Uncommon Shop GmbH":MAILTO:info@theuncommonshop.ch
END:VEVENT
BEGIN:VEVENT
DTSTART;TZID=Europe/Zurich:20301122T180000
DTEND;TZID=Europe/Zurich:20301122T210000
DTSTAMP:20260420T115004
CREATED:20260330T143048Z
LAST-MODIFIED:20260330T143112Z
UID:10009414-1921600800-1921611600@theuncommonshop.ch
SUMMARY:Dragonball TCG Tournament Event
DESCRIPTION:Préparer Bandai TCG Plus pour la connexion
URL:https://theuncommonshop.ch/fr/event/dragonball-tcg-tournament-event/2030-11-22/
CATEGORIES:Tournois
ATTACH;FMTTYPE=image/png:https://theuncommonshop.ch/wp-content/uploads/2026/03/9.png
END:VEVENT
BEGIN:VEVENT
DTSTART;TZID=Europe/Zurich:20301122T190000
DTEND;TZID=Europe/Zurich:20301122T223000
DTSTAMP:20260420T115004
CREATED:20260319T110115Z
LAST-MODIFIED:20260325T125430Z
UID:10006372-1921604400-1921617000@theuncommonshop.ch
SUMMARY:Livestream Twitch
DESCRIPTION:
URL:https://theuncommonshop.ch/fr/event/livestream-twitch-4/2030-11-22/
CATEGORIES:Flux en direct
ATTACH;FMTTYPE=image/jpeg:https://theuncommonshop.ch/wp-content/uploads/2026/01/5.jpg
ORGANIZER;CN="The Uncommon Shop GmbH":MAILTO:info@theuncommonshop.ch
END:VEVENT
BEGIN:VEVENT
DTSTART;TZID=Europe/Zurich:20301123T123000
DTEND;TZID=Europe/Zurich:20301123T170000
DTSTAMP:20260420T115004
CREATED:20260319T110851Z
LAST-MODIFIED:20260325T125429Z
UID:10006060-1921667400-1921683600@theuncommonshop.ch
SUMMARY:Pokémon Rencontre & Échange
DESCRIPTION:Le très populaire Pokémon Meeting & Trade a lieu une fois par mois. Rencontrez\, échangez\, jouez et amusez-vous ! Rejoignez notre communauté Whatsapp et participez à la communauté Uncommon Shop !   \n\nhttps://chat.whatsapp.com/C6vflHrPJl80xKxExj3Wy6
URL:https://theuncommonshop.ch/fr/event/pokemon-rencontre-echange-2/2030-11-23/
LOCATION:The Uncommon Shop Romanshorn\, Bahnhofstrasse 16 / Alleestrasse 25\, Romanshorn\, 8590
CATEGORIES:Tournois
ATTACH;FMTTYPE=image/jpeg:https://theuncommonshop.ch/wp-content/uploads/2025/12/4.jpg
END:VEVENT
BEGIN:VEVENT
DTSTART;TZID=Europe/Zurich:20301123T124500
DTEND;TZID=Europe/Zurich:20301123T180000
DTSTAMP:20260420T115004
CREATED:20260319T110424Z
LAST-MODIFIED:20260325T125430Z
UID:10006635-1921668300-1921687200@theuncommonshop.ch
SUMMARY:Yu-Gi-Oh ! Locaux
DESCRIPTION:-Propre deck -Konami ID -PORTANT !!!!! Chaque joueur reçoit à l’entrée : 2x boosters des derniers sets 1x OTS Par participant\, 2x boosters des derniers sets de base sont ajoutés à la cagnotte qui sera ensuite répartie entre les 3 premières places. A partir de 10 joueurs\, un présentoir est ajouté à la cagnotte et pour chaque joueur supplémentaire\, deux boosters supplémentaires sont ajoutés à la cagnotte. Distribution des prix
URL:https://theuncommonshop.ch/fr/event/yu-gi-oh-locaux-2/2030-11-23/
LOCATION:The Uncommon Shop Romanshorn\, Bahnhofstrasse 16 / Alleestrasse 25\, Romanshorn\, 8590
CATEGORIES:Tournois
ATTACH;FMTTYPE=image/jpeg:https://theuncommonshop.ch/wp-content/uploads/2025/12/3.jpg
ORGANIZER;CN="The Uncommon Shop GmbH":MAILTO:info@theuncommonshop.ch
END:VEVENT
BEGIN:VEVENT
DTSTART;TZID=Europe/Zurich:20301123T130000
DTEND;TZID=Europe/Zurich:20301123T180000
DTSTAMP:20260420T115004
CREATED:20251218T095011Z
LAST-MODIFIED:20260416T070758Z
UID:10005459-1921669200-1921687200@theuncommonshop.ch
SUMMARY:Tournoi One Piece
DESCRIPTION:\nVous trouverez toutes les informations utiles dans notre groupe WhatsApp One Piece : \nRomanshorn: 13:00 – 18:00 (Open End) https://chat.whatsapp.com/KSo3Q4YmJlU5FXSZtvpThG \nSchaffhausen: 13:30 – 17:00 \n\n \n\n  
URL:https://theuncommonshop.ch/fr/event/tournoi-one-piece/2030-11-23/
LOCATION:The Uncommon Shop Romanshorn\, Bahnhofstrasse 16 / Alleestrasse 25\, Romanshorn\, 8590
CATEGORIES:Tournois
ATTACH;FMTTYPE=image/jpeg:https://theuncommonshop.ch/wp-content/uploads/2025/12/One-piece.jpg
ORGANIZER;CN="The Uncommon Shop GmbH":MAILTO:info@theuncommonshop.ch
END:VEVENT
BEGIN:VEVENT
DTSTART;TZID=Europe/Zurich:20301128T190000
DTEND;TZID=Europe/Zurich:20301128T210000
DTSTAMP:20260420T115004
CREATED:20260416T065956Z
LAST-MODIFIED:20260416T065956Z
UID:10010833-1922122800-1922130000@theuncommonshop.ch
SUMMARY:One Piece Turnier Schaffhausen
DESCRIPTION:19:00-21:00 (Open End)
URL:https://theuncommonshop.ch/fr/event/one-piece-turnier-schaffhausen/2030-11-28/
LOCATION:The Uncommon Shop Schaffhausen\, Beckenstube 2\, Schaffhausen\, 8200\, Switzerland
CATEGORIES:Tournois
ATTACH;FMTTYPE=image/jpeg:https://theuncommonshop.ch/wp-content/uploads/2025/12/One-piece.jpg
ORGANIZER;CN="The Uncommon Shop GmbH":MAILTO:info@theuncommonshop.ch
END:VEVENT
BEGIN:VEVENT
DTSTART;TZID=Europe/Zurich:20301129T170000
DTEND;TZID=Europe/Zurich:20301129T230000
DTSTAMP:20260420T115004
CREATED:20260319T110738Z
LAST-MODIFIED:20260325T125430Z
UID:10007160-1922202000-1922223600@theuncommonshop.ch
SUMMARY:Friday Night Magic
DESCRIPTION:Chaque vendredi\, c’est la Commander Night dans les magasins Uncommon de Romanshorn et Schaffhouse. Passez nous voir !
URL:https://theuncommonshop.ch/fr/event/friday-night-magic-4/2030-11-29/
LOCATION:The Uncommon Shop Romanshorn & Schaffhausen\, Bahnhofstrasse 16 / Beckenstube 2\, Romanshorn / Schaffhausen\, 8590 / 8200
CATEGORIES:Tournois
ATTACH;FMTTYPE=image/jpeg:https://theuncommonshop.ch/wp-content/uploads/2025/12/Kalender-Anzeige-1.jpg
ORGANIZER;CN="The Uncommon Shop GmbH":MAILTO:info@theuncommonshop.ch
END:VEVENT
BEGIN:VEVENT
DTSTART;TZID=Europe/Zurich:20301129T180000
DTEND;TZID=Europe/Zurich:20301129T210000
DTSTAMP:20260420T115004
CREATED:20260330T143048Z
LAST-MODIFIED:20260330T143112Z
UID:10009415-1922205600-1922216400@theuncommonshop.ch
SUMMARY:Dragonball TCG Tournament Event
DESCRIPTION:Préparer Bandai TCG Plus pour la connexion
URL:https://theuncommonshop.ch/fr/event/dragonball-tcg-tournament-event/2030-11-29/
CATEGORIES:Tournois
ATTACH;FMTTYPE=image/png:https://theuncommonshop.ch/wp-content/uploads/2026/03/9.png
END:VEVENT
BEGIN:VEVENT
DTSTART;TZID=Europe/Zurich:20301129T190000
DTEND;TZID=Europe/Zurich:20301129T223000
DTSTAMP:20260420T115004
CREATED:20260319T110115Z
LAST-MODIFIED:20260325T125430Z
UID:10006373-1922209200-1922221800@theuncommonshop.ch
SUMMARY:Livestream Twitch
DESCRIPTION:
URL:https://theuncommonshop.ch/fr/event/livestream-twitch-4/2030-11-29/
CATEGORIES:Flux en direct
ATTACH;FMTTYPE=image/jpeg:https://theuncommonshop.ch/wp-content/uploads/2026/01/5.jpg
ORGANIZER;CN="The Uncommon Shop GmbH":MAILTO:info@theuncommonshop.ch
END:VEVENT
BEGIN:VEVENT
DTSTART;TZID=Europe/Zurich:20301130T124500
DTEND;TZID=Europe/Zurich:20301130T180000
DTSTAMP:20260420T115004
CREATED:20260319T110424Z
LAST-MODIFIED:20260325T125430Z
UID:10006636-1922273100-1922292000@theuncommonshop.ch
SUMMARY:Yu-Gi-Oh ! Locaux
DESCRIPTION:-Propre deck -Konami ID -PORTANT !!!!! Chaque joueur reçoit à l’entrée : 2x boosters des derniers sets 1x OTS Par participant\, 2x boosters des derniers sets de base sont ajoutés à la cagnotte qui sera ensuite répartie entre les 3 premières places. A partir de 10 joueurs\, un présentoir est ajouté à la cagnotte et pour chaque joueur supplémentaire\, deux boosters supplémentaires sont ajoutés à la cagnotte. Distribution des prix
URL:https://theuncommonshop.ch/fr/event/yu-gi-oh-locaux-2/2030-11-30/
LOCATION:The Uncommon Shop Romanshorn\, Bahnhofstrasse 16 / Alleestrasse 25\, Romanshorn\, 8590
CATEGORIES:Tournois
ATTACH;FMTTYPE=image/jpeg:https://theuncommonshop.ch/wp-content/uploads/2025/12/3.jpg
ORGANIZER;CN="The Uncommon Shop GmbH":MAILTO:info@theuncommonshop.ch
END:VEVENT
BEGIN:VEVENT
DTSTART;TZID=Europe/Zurich:20301130T130000
DTEND;TZID=Europe/Zurich:20301130T180000
DTSTAMP:20260420T115004
CREATED:20251218T095011Z
LAST-MODIFIED:20260416T070758Z
UID:10005460-1922274000-1922292000@theuncommonshop.ch
SUMMARY:Tournoi One Piece
DESCRIPTION:\nVous trouverez toutes les informations utiles dans notre groupe WhatsApp One Piece : \nRomanshorn: 13:00 – 18:00 (Open End) https://chat.whatsapp.com/KSo3Q4YmJlU5FXSZtvpThG \nSchaffhausen: 13:30 – 17:00 \n\n \n\n  
URL:https://theuncommonshop.ch/fr/event/tournoi-one-piece/2030-11-30/
LOCATION:The Uncommon Shop Romanshorn\, Bahnhofstrasse 16 / Alleestrasse 25\, Romanshorn\, 8590
CATEGORIES:Tournois
ATTACH;FMTTYPE=image/jpeg:https://theuncommonshop.ch/wp-content/uploads/2025/12/One-piece.jpg
ORGANIZER;CN="The Uncommon Shop GmbH":MAILTO:info@theuncommonshop.ch
END:VEVENT
BEGIN:VEVENT
DTSTART;TZID=Europe/Zurich:20301205T190000
DTEND;TZID=Europe/Zurich:20301205T210000
DTSTAMP:20260420T115004
CREATED:20260416T065956Z
LAST-MODIFIED:20260416T065956Z
UID:10010834-1922727600-1922734800@theuncommonshop.ch
SUMMARY:One Piece Turnier Schaffhausen
DESCRIPTION:19:00-21:00 (Open End)
URL:https://theuncommonshop.ch/fr/event/one-piece-turnier-schaffhausen/2030-12-05/
LOCATION:The Uncommon Shop Schaffhausen\, Beckenstube 2\, Schaffhausen\, 8200\, Switzerland
CATEGORIES:Tournois
ATTACH;FMTTYPE=image/jpeg:https://theuncommonshop.ch/wp-content/uploads/2025/12/One-piece.jpg
ORGANIZER;CN="The Uncommon Shop GmbH":MAILTO:info@theuncommonshop.ch
END:VEVENT
BEGIN:VEVENT
DTSTART;TZID=Europe/Zurich:20301206T170000
DTEND;TZID=Europe/Zurich:20301206T230000
DTSTAMP:20260420T115004
CREATED:20260319T110738Z
LAST-MODIFIED:20260325T125430Z
UID:10007161-1922806800-1922828400@theuncommonshop.ch
SUMMARY:Friday Night Magic
DESCRIPTION:Chaque vendredi\, c’est la Commander Night dans les magasins Uncommon de Romanshorn et Schaffhouse. Passez nous voir !
URL:https://theuncommonshop.ch/fr/event/friday-night-magic-4/2030-12-06/
LOCATION:The Uncommon Shop Romanshorn & Schaffhausen\, Bahnhofstrasse 16 / Beckenstube 2\, Romanshorn / Schaffhausen\, 8590 / 8200
CATEGORIES:Tournois
ATTACH;FMTTYPE=image/jpeg:https://theuncommonshop.ch/wp-content/uploads/2025/12/Kalender-Anzeige-1.jpg
ORGANIZER;CN="The Uncommon Shop GmbH":MAILTO:info@theuncommonshop.ch
END:VEVENT
BEGIN:VEVENT
DTSTART;TZID=Europe/Zurich:20301206T180000
DTEND;TZID=Europe/Zurich:20301206T210000
DTSTAMP:20260420T115004
CREATED:20260330T143048Z
LAST-MODIFIED:20260330T143112Z
UID:10009416-1922810400-1922821200@theuncommonshop.ch
SUMMARY:Dragonball TCG Tournament Event
DESCRIPTION:Préparer Bandai TCG Plus pour la connexion
URL:https://theuncommonshop.ch/fr/event/dragonball-tcg-tournament-event/2030-12-06/
CATEGORIES:Tournois
ATTACH;FMTTYPE=image/png:https://theuncommonshop.ch/wp-content/uploads/2026/03/9.png
END:VEVENT
BEGIN:VEVENT
DTSTART;TZID=Europe/Zurich:20301206T190000
DTEND;TZID=Europe/Zurich:20301206T223000
DTSTAMP:20260420T115004
CREATED:20260319T110115Z
LAST-MODIFIED:20260325T125430Z
UID:10006374-1922814000-1922826600@theuncommonshop.ch
SUMMARY:Livestream Twitch
DESCRIPTION:
URL:https://theuncommonshop.ch/fr/event/livestream-twitch-4/2030-12-06/
CATEGORIES:Flux en direct
ATTACH;FMTTYPE=image/jpeg:https://theuncommonshop.ch/wp-content/uploads/2026/01/5.jpg
ORGANIZER;CN="The Uncommon Shop GmbH":MAILTO:info@theuncommonshop.ch
END:VEVENT
BEGIN:VEVENT
DTSTART;TZID=Europe/Zurich:20301207T124500
DTEND;TZID=Europe/Zurich:20301207T180000
DTSTAMP:20260420T115004
CREATED:20260319T110424Z
LAST-MODIFIED:20260325T125430Z
UID:10006637-1922877900-1922896800@theuncommonshop.ch
SUMMARY:Yu-Gi-Oh ! Locaux
DESCRIPTION:-Propre deck -Konami ID -PORTANT !!!!! Chaque joueur reçoit à l’entrée : 2x boosters des derniers sets 1x OTS Par participant\, 2x boosters des derniers sets de base sont ajoutés à la cagnotte qui sera ensuite répartie entre les 3 premières places. A partir de 10 joueurs\, un présentoir est ajouté à la cagnotte et pour chaque joueur supplémentaire\, deux boosters supplémentaires sont ajoutés à la cagnotte. Distribution des prix
URL:https://theuncommonshop.ch/fr/event/yu-gi-oh-locaux-2/2030-12-07/
LOCATION:The Uncommon Shop Romanshorn\, Bahnhofstrasse 16 / Alleestrasse 25\, Romanshorn\, 8590
CATEGORIES:Tournois
ATTACH;FMTTYPE=image/jpeg:https://theuncommonshop.ch/wp-content/uploads/2025/12/3.jpg
ORGANIZER;CN="The Uncommon Shop GmbH":MAILTO:info@theuncommonshop.ch
END:VEVENT
BEGIN:VEVENT
DTSTART;TZID=Europe/Zurich:20301207T130000
DTEND;TZID=Europe/Zurich:20301207T180000
DTSTAMP:20260420T115004
CREATED:20251218T095011Z
LAST-MODIFIED:20260416T070758Z
UID:10005461-1922878800-1922896800@theuncommonshop.ch
SUMMARY:Tournoi One Piece
DESCRIPTION:\nVous trouverez toutes les informations utiles dans notre groupe WhatsApp One Piece : \nRomanshorn: 13:00 – 18:00 (Open End) https://chat.whatsapp.com/KSo3Q4YmJlU5FXSZtvpThG \nSchaffhausen: 13:30 – 17:00 \n\n \n\n  
URL:https://theuncommonshop.ch/fr/event/tournoi-one-piece/2030-12-07/
LOCATION:The Uncommon Shop Romanshorn\, Bahnhofstrasse 16 / Alleestrasse 25\, Romanshorn\, 8590
CATEGORIES:Tournois
ATTACH;FMTTYPE=image/jpeg:https://theuncommonshop.ch/wp-content/uploads/2025/12/One-piece.jpg
ORGANIZER;CN="The Uncommon Shop GmbH":MAILTO:info@theuncommonshop.ch
END:VEVENT
BEGIN:VEVENT
DTSTART;TZID=Europe/Zurich:20301212T190000
DTEND;TZID=Europe/Zurich:20301212T210000
DTSTAMP:20260420T115004
CREATED:20260416T065956Z
LAST-MODIFIED:20260416T065956Z
UID:10010835-1923332400-1923339600@theuncommonshop.ch
SUMMARY:One Piece Turnier Schaffhausen
DESCRIPTION:19:00-21:00 (Open End)
URL:https://theuncommonshop.ch/fr/event/one-piece-turnier-schaffhausen/2030-12-12/
LOCATION:The Uncommon Shop Schaffhausen\, Beckenstube 2\, Schaffhausen\, 8200\, Switzerland
CATEGORIES:Tournois
ATTACH;FMTTYPE=image/jpeg:https://theuncommonshop.ch/wp-content/uploads/2025/12/One-piece.jpg
ORGANIZER;CN="The Uncommon Shop GmbH":MAILTO:info@theuncommonshop.ch
END:VEVENT
BEGIN:VEVENT
DTSTART;TZID=Europe/Zurich:20301213T170000
DTEND;TZID=Europe/Zurich:20301213T230000
DTSTAMP:20260420T115004
CREATED:20260319T110738Z
LAST-MODIFIED:20260325T125430Z
UID:10007162-1923411600-1923433200@theuncommonshop.ch
SUMMARY:Friday Night Magic
DESCRIPTION:Chaque vendredi\, c’est la Commander Night dans les magasins Uncommon de Romanshorn et Schaffhouse. Passez nous voir !
URL:https://theuncommonshop.ch/fr/event/friday-night-magic-4/2030-12-13/
LOCATION:The Uncommon Shop Romanshorn & Schaffhausen\, Bahnhofstrasse 16 / Beckenstube 2\, Romanshorn / Schaffhausen\, 8590 / 8200
CATEGORIES:Tournois
ATTACH;FMTTYPE=image/jpeg:https://theuncommonshop.ch/wp-content/uploads/2025/12/Kalender-Anzeige-1.jpg
ORGANIZER;CN="The Uncommon Shop GmbH":MAILTO:info@theuncommonshop.ch
END:VEVENT
BEGIN:VEVENT
DTSTART;TZID=Europe/Zurich:20301213T180000
DTEND;TZID=Europe/Zurich:20301213T210000
DTSTAMP:20260420T115004
CREATED:20260330T143048Z
LAST-MODIFIED:20260330T143112Z
UID:10009417-1923415200-1923426000@theuncommonshop.ch
SUMMARY:Dragonball TCG Tournament Event
DESCRIPTION:Préparer Bandai TCG Plus pour la connexion
URL:https://theuncommonshop.ch/fr/event/dragonball-tcg-tournament-event/2030-12-13/
CATEGORIES:Tournois
ATTACH;FMTTYPE=image/png:https://theuncommonshop.ch/wp-content/uploads/2026/03/9.png
END:VEVENT
BEGIN:VEVENT
DTSTART;TZID=Europe/Zurich:20301213T190000
DTEND;TZID=Europe/Zurich:20301213T223000
DTSTAMP:20260420T115004
CREATED:20260319T110115Z
LAST-MODIFIED:20260325T125430Z
UID:10006375-1923418800-1923431400@theuncommonshop.ch
SUMMARY:Livestream Twitch
DESCRIPTION:
URL:https://theuncommonshop.ch/fr/event/livestream-twitch-4/2030-12-13/
CATEGORIES:Flux en direct
ATTACH;FMTTYPE=image/jpeg:https://theuncommonshop.ch/wp-content/uploads/2026/01/5.jpg
ORGANIZER;CN="The Uncommon Shop GmbH":MAILTO:info@theuncommonshop.ch
END:VEVENT
BEGIN:VEVENT
DTSTART;TZID=Europe/Zurich:20301214T124500
DTEND;TZID=Europe/Zurich:20301214T180000
DTSTAMP:20260420T115004
CREATED:20260319T110424Z
LAST-MODIFIED:20260325T125430Z
UID:10006638-1923482700-1923501600@theuncommonshop.ch
SUMMARY:Yu-Gi-Oh ! Locaux
DESCRIPTION:-Propre deck -Konami ID -PORTANT !!!!! Chaque joueur reçoit à l’entrée : 2x boosters des derniers sets 1x OTS Par participant\, 2x boosters des derniers sets de base sont ajoutés à la cagnotte qui sera ensuite répartie entre les 3 premières places. A partir de 10 joueurs\, un présentoir est ajouté à la cagnotte et pour chaque joueur supplémentaire\, deux boosters supplémentaires sont ajoutés à la cagnotte. Distribution des prix
URL:https://theuncommonshop.ch/fr/event/yu-gi-oh-locaux-2/2030-12-14/
LOCATION:The Uncommon Shop Romanshorn\, Bahnhofstrasse 16 / Alleestrasse 25\, Romanshorn\, 8590
CATEGORIES:Tournois
ATTACH;FMTTYPE=image/jpeg:https://theuncommonshop.ch/wp-content/uploads/2025/12/3.jpg
ORGANIZER;CN="The Uncommon Shop GmbH":MAILTO:info@theuncommonshop.ch
END:VEVENT
BEGIN:VEVENT
DTSTART;TZID=Europe/Zurich:20301214T130000
DTEND;TZID=Europe/Zurich:20301214T180000
DTSTAMP:20260420T115004
CREATED:20251218T095011Z
LAST-MODIFIED:20260416T070758Z
UID:10005462-1923483600-1923501600@theuncommonshop.ch
SUMMARY:Tournoi One Piece
DESCRIPTION:\nVous trouverez toutes les informations utiles dans notre groupe WhatsApp One Piece : \nRomanshorn: 13:00 – 18:00 (Open End) https://chat.whatsapp.com/KSo3Q4YmJlU5FXSZtvpThG \nSchaffhausen: 13:30 – 17:00 \n\n \n\n  
URL:https://theuncommonshop.ch/fr/event/tournoi-one-piece/2030-12-14/
LOCATION:The Uncommon Shop Romanshorn\, Bahnhofstrasse 16 / Alleestrasse 25\, Romanshorn\, 8590
CATEGORIES:Tournois
ATTACH;FMTTYPE=image/jpeg:https://theuncommonshop.ch/wp-content/uploads/2025/12/One-piece.jpg
ORGANIZER;CN="The Uncommon Shop GmbH":MAILTO:info@theuncommonshop.ch
END:VEVENT
BEGIN:VEVENT
DTSTART;TZID=Europe/Zurich:20301219T190000
DTEND;TZID=Europe/Zurich:20301219T210000
DTSTAMP:20260420T115004
CREATED:20260416T065956Z
LAST-MODIFIED:20260416T065956Z
UID:10010836-1923937200-1923944400@theuncommonshop.ch
SUMMARY:One Piece Turnier Schaffhausen
DESCRIPTION:19:00-21:00 (Open End)
URL:https://theuncommonshop.ch/fr/event/one-piece-turnier-schaffhausen/2030-12-19/
LOCATION:The Uncommon Shop Schaffhausen\, Beckenstube 2\, Schaffhausen\, 8200\, Switzerland
CATEGORIES:Tournois
ATTACH;FMTTYPE=image/jpeg:https://theuncommonshop.ch/wp-content/uploads/2025/12/One-piece.jpg
ORGANIZER;CN="The Uncommon Shop GmbH":MAILTO:info@theuncommonshop.ch
END:VEVENT
END:VCALENDAR