BEGIN:VCALENDAR
VERSION:2.0
PRODID:-//Largest trading card shop in Switzerland - ECPv6.15.20//NONSGML v1.0//EN
CALSCALE:GREGORIAN
METHOD:PUBLISH
X-ORIGINAL-URL:https://theuncommonshop.ch/fr/
X-WR-CALDESC:Évènements pour Largest trading card shop in Switzerland
REFRESH-INTERVAL;VALUE=DURATION:PT1H
X-Robots-Tag:noindex
X-PUBLISHED-TTL:PT1H
BEGIN:VTIMEZONE
TZID:Europe/Zurich
BEGIN:DAYLIGHT
TZOFFSETFROM:+0100
TZOFFSETTO:+0200
TZNAME:CEST
DTSTART:20290325T010000
END:DAYLIGHT
BEGIN:STANDARD
TZOFFSETFROM:+0200
TZOFFSETTO:+0100
TZNAME:CET
DTSTART:20291028T010000
END:STANDARD
BEGIN:DAYLIGHT
TZOFFSETFROM:+0100
TZOFFSETTO:+0200
TZNAME:CEST
DTSTART:20300331T010000
END:DAYLIGHT
BEGIN:STANDARD
TZOFFSETFROM:+0200
TZOFFSETTO:+0100
TZNAME:CET
DTSTART:20301027T010000
END:STANDARD
BEGIN:DAYLIGHT
TZOFFSETFROM:+0100
TZOFFSETTO:+0200
TZNAME:CEST
DTSTART:20310330T010000
END:DAYLIGHT
BEGIN:STANDARD
TZOFFSETFROM:+0200
TZOFFSETTO:+0100
TZNAME:CET
DTSTART:20311026T010000
END:STANDARD
END:VTIMEZONE
BEGIN:VEVENT
DTSTART;TZID=Europe/Zurich:20300914T124500
DTEND;TZID=Europe/Zurich:20300914T180000
DTSTAMP:20260420T071442
CREATED:20260319T110424Z
LAST-MODIFIED:20260325T125430Z
UID:10006625-1915620300-1915639200@theuncommonshop.ch
SUMMARY:Yu-Gi-Oh ! Locaux
DESCRIPTION:-Propre deck -Konami ID -PORTANT !!!!! Chaque joueur reçoit à l’entrée : 2x boosters des derniers sets 1x OTS Par participant\, 2x boosters des derniers sets de base sont ajoutés à la cagnotte qui sera ensuite répartie entre les 3 premières places. A partir de 10 joueurs\, un présentoir est ajouté à la cagnotte et pour chaque joueur supplémentaire\, deux boosters supplémentaires sont ajoutés à la cagnotte. Distribution des prix
URL:https://theuncommonshop.ch/fr/event/yu-gi-oh-locaux-2/2030-09-14/
LOCATION:The Uncommon Shop Romanshorn\, Bahnhofstrasse 16 / Alleestrasse 25\, Romanshorn\, 8590
CATEGORIES:Tournois
ATTACH;FMTTYPE=image/jpeg:https://theuncommonshop.ch/wp-content/uploads/2025/12/3.jpg
ORGANIZER;CN="The Uncommon Shop GmbH":MAILTO:info@theuncommonshop.ch
END:VEVENT
BEGIN:VEVENT
DTSTART;TZID=Europe/Zurich:20300914T130000
DTEND;TZID=Europe/Zurich:20300914T180000
DTSTAMP:20260420T071442
CREATED:20251218T095011Z
LAST-MODIFIED:20260416T070758Z
UID:10005449-1915621200-1915639200@theuncommonshop.ch
SUMMARY:Tournoi One Piece
DESCRIPTION:\nVous trouverez toutes les informations utiles dans notre groupe WhatsApp One Piece : \nRomanshorn: 13:00 – 18:00 (Open End) https://chat.whatsapp.com/KSo3Q4YmJlU5FXSZtvpThG \nSchaffhausen: 13:30 – 17:00 \n\n \n\n  
URL:https://theuncommonshop.ch/fr/event/tournoi-one-piece/2030-09-14/
LOCATION:The Uncommon Shop Romanshorn\, Bahnhofstrasse 16 / Alleestrasse 25\, Romanshorn\, 8590
CATEGORIES:Tournois
ATTACH;FMTTYPE=image/jpeg:https://theuncommonshop.ch/wp-content/uploads/2025/12/One-piece.jpg
ORGANIZER;CN="The Uncommon Shop GmbH":MAILTO:info@theuncommonshop.ch
END:VEVENT
BEGIN:VEVENT
DTSTART;TZID=Europe/Zurich:20300919T190000
DTEND;TZID=Europe/Zurich:20300919T210000
DTSTAMP:20260420T071442
CREATED:20260416T065956Z
LAST-MODIFIED:20260416T065956Z
UID:10010823-1916074800-1916082000@theuncommonshop.ch
SUMMARY:One Piece Turnier Schaffhausen
DESCRIPTION:19:00-21:00 (Open End)
URL:https://theuncommonshop.ch/fr/event/one-piece-turnier-schaffhausen/2030-09-19/
LOCATION:The Uncommon Shop Schaffhausen\, Beckenstube 2\, Schaffhausen\, 8200\, Switzerland
CATEGORIES:Tournois
ATTACH;FMTTYPE=image/jpeg:https://theuncommonshop.ch/wp-content/uploads/2025/12/One-piece.jpg
ORGANIZER;CN="The Uncommon Shop GmbH":MAILTO:info@theuncommonshop.ch
END:VEVENT
BEGIN:VEVENT
DTSTART;TZID=Europe/Zurich:20300920T170000
DTEND;TZID=Europe/Zurich:20300920T230000
DTSTAMP:20260420T071442
CREATED:20260319T110738Z
LAST-MODIFIED:20260325T125430Z
UID:10007150-1916154000-1916175600@theuncommonshop.ch
SUMMARY:Friday Night Magic
DESCRIPTION:Chaque vendredi\, c’est la Commander Night dans les magasins Uncommon de Romanshorn et Schaffhouse. Passez nous voir !
URL:https://theuncommonshop.ch/fr/event/friday-night-magic-4/2030-09-20/
LOCATION:The Uncommon Shop Romanshorn & Schaffhausen\, Bahnhofstrasse 16 / Beckenstube 2\, Romanshorn / Schaffhausen\, 8590 / 8200
CATEGORIES:Tournois
ATTACH;FMTTYPE=image/jpeg:https://theuncommonshop.ch/wp-content/uploads/2025/12/Kalender-Anzeige-1.jpg
ORGANIZER;CN="The Uncommon Shop GmbH":MAILTO:info@theuncommonshop.ch
END:VEVENT
BEGIN:VEVENT
DTSTART;TZID=Europe/Zurich:20300920T180000
DTEND;TZID=Europe/Zurich:20300920T210000
DTSTAMP:20260420T071442
CREATED:20260330T143048Z
LAST-MODIFIED:20260330T143112Z
UID:10009405-1916157600-1916168400@theuncommonshop.ch
SUMMARY:Dragonball TCG Tournament Event
DESCRIPTION:Préparer Bandai TCG Plus pour la connexion
URL:https://theuncommonshop.ch/fr/event/dragonball-tcg-tournament-event/2030-09-20/
CATEGORIES:Tournois
ATTACH;FMTTYPE=image/png:https://theuncommonshop.ch/wp-content/uploads/2026/03/9.png
END:VEVENT
BEGIN:VEVENT
DTSTART;TZID=Europe/Zurich:20300920T190000
DTEND;TZID=Europe/Zurich:20300920T223000
DTSTAMP:20260420T071442
CREATED:20260319T110115Z
LAST-MODIFIED:20260325T125430Z
UID:10006363-1916161200-1916173800@theuncommonshop.ch
SUMMARY:Livestream Twitch
DESCRIPTION:
URL:https://theuncommonshop.ch/fr/event/livestream-twitch-4/2030-09-20/
CATEGORIES:Flux en direct
ATTACH;FMTTYPE=image/jpeg:https://theuncommonshop.ch/wp-content/uploads/2026/01/5.jpg
ORGANIZER;CN="The Uncommon Shop GmbH":MAILTO:info@theuncommonshop.ch
END:VEVENT
BEGIN:VEVENT
DTSTART;TZID=Europe/Zurich:20300921T124500
DTEND;TZID=Europe/Zurich:20300921T180000
DTSTAMP:20260420T071442
CREATED:20260319T110424Z
LAST-MODIFIED:20260325T125430Z
UID:10006626-1916225100-1916244000@theuncommonshop.ch
SUMMARY:Yu-Gi-Oh ! Locaux
DESCRIPTION:-Propre deck -Konami ID -PORTANT !!!!! Chaque joueur reçoit à l’entrée : 2x boosters des derniers sets 1x OTS Par participant\, 2x boosters des derniers sets de base sont ajoutés à la cagnotte qui sera ensuite répartie entre les 3 premières places. A partir de 10 joueurs\, un présentoir est ajouté à la cagnotte et pour chaque joueur supplémentaire\, deux boosters supplémentaires sont ajoutés à la cagnotte. Distribution des prix
URL:https://theuncommonshop.ch/fr/event/yu-gi-oh-locaux-2/2030-09-21/
LOCATION:The Uncommon Shop Romanshorn\, Bahnhofstrasse 16 / Alleestrasse 25\, Romanshorn\, 8590
CATEGORIES:Tournois
ATTACH;FMTTYPE=image/jpeg:https://theuncommonshop.ch/wp-content/uploads/2025/12/3.jpg
ORGANIZER;CN="The Uncommon Shop GmbH":MAILTO:info@theuncommonshop.ch
END:VEVENT
BEGIN:VEVENT
DTSTART;TZID=Europe/Zurich:20300921T130000
DTEND;TZID=Europe/Zurich:20300921T180000
DTSTAMP:20260420T071442
CREATED:20251218T095011Z
LAST-MODIFIED:20260416T070758Z
UID:10005450-1916226000-1916244000@theuncommonshop.ch
SUMMARY:Tournoi One Piece
DESCRIPTION:\nVous trouverez toutes les informations utiles dans notre groupe WhatsApp One Piece : \nRomanshorn: 13:00 – 18:00 (Open End) https://chat.whatsapp.com/KSo3Q4YmJlU5FXSZtvpThG \nSchaffhausen: 13:30 – 17:00 \n\n \n\n  
URL:https://theuncommonshop.ch/fr/event/tournoi-one-piece/2030-09-21/
LOCATION:The Uncommon Shop Romanshorn\, Bahnhofstrasse 16 / Alleestrasse 25\, Romanshorn\, 8590
CATEGORIES:Tournois
ATTACH;FMTTYPE=image/jpeg:https://theuncommonshop.ch/wp-content/uploads/2025/12/One-piece.jpg
ORGANIZER;CN="The Uncommon Shop GmbH":MAILTO:info@theuncommonshop.ch
END:VEVENT
BEGIN:VEVENT
DTSTART;TZID=Europe/Zurich:20300926T190000
DTEND;TZID=Europe/Zurich:20300926T210000
DTSTAMP:20260420T071442
CREATED:20260416T065956Z
LAST-MODIFIED:20260416T065956Z
UID:10010824-1916679600-1916686800@theuncommonshop.ch
SUMMARY:One Piece Turnier Schaffhausen
DESCRIPTION:19:00-21:00 (Open End)
URL:https://theuncommonshop.ch/fr/event/one-piece-turnier-schaffhausen/2030-09-26/
LOCATION:The Uncommon Shop Schaffhausen\, Beckenstube 2\, Schaffhausen\, 8200\, Switzerland
CATEGORIES:Tournois
ATTACH;FMTTYPE=image/jpeg:https://theuncommonshop.ch/wp-content/uploads/2025/12/One-piece.jpg
ORGANIZER;CN="The Uncommon Shop GmbH":MAILTO:info@theuncommonshop.ch
END:VEVENT
BEGIN:VEVENT
DTSTART;TZID=Europe/Zurich:20300927T170000
DTEND;TZID=Europe/Zurich:20300927T230000
DTSTAMP:20260420T071442
CREATED:20260319T110738Z
LAST-MODIFIED:20260325T125430Z
UID:10007151-1916758800-1916780400@theuncommonshop.ch
SUMMARY:Friday Night Magic
DESCRIPTION:Chaque vendredi\, c’est la Commander Night dans les magasins Uncommon de Romanshorn et Schaffhouse. Passez nous voir !
URL:https://theuncommonshop.ch/fr/event/friday-night-magic-4/2030-09-27/
LOCATION:The Uncommon Shop Romanshorn & Schaffhausen\, Bahnhofstrasse 16 / Beckenstube 2\, Romanshorn / Schaffhausen\, 8590 / 8200
CATEGORIES:Tournois
ATTACH;FMTTYPE=image/jpeg:https://theuncommonshop.ch/wp-content/uploads/2025/12/Kalender-Anzeige-1.jpg
ORGANIZER;CN="The Uncommon Shop GmbH":MAILTO:info@theuncommonshop.ch
END:VEVENT
BEGIN:VEVENT
DTSTART;TZID=Europe/Zurich:20300927T180000
DTEND;TZID=Europe/Zurich:20300927T210000
DTSTAMP:20260420T071442
CREATED:20260330T143048Z
LAST-MODIFIED:20260330T143112Z
UID:10009406-1916762400-1916773200@theuncommonshop.ch
SUMMARY:Dragonball TCG Tournament Event
DESCRIPTION:Préparer Bandai TCG Plus pour la connexion
URL:https://theuncommonshop.ch/fr/event/dragonball-tcg-tournament-event/2030-09-27/
CATEGORIES:Tournois
ATTACH;FMTTYPE=image/png:https://theuncommonshop.ch/wp-content/uploads/2026/03/9.png
END:VEVENT
BEGIN:VEVENT
DTSTART;TZID=Europe/Zurich:20300927T190000
DTEND;TZID=Europe/Zurich:20300927T223000
DTSTAMP:20260420T071442
CREATED:20260319T110115Z
LAST-MODIFIED:20260325T125430Z
UID:10006364-1916766000-1916778600@theuncommonshop.ch
SUMMARY:Livestream Twitch
DESCRIPTION:
URL:https://theuncommonshop.ch/fr/event/livestream-twitch-4/2030-09-27/
CATEGORIES:Flux en direct
ATTACH;FMTTYPE=image/jpeg:https://theuncommonshop.ch/wp-content/uploads/2026/01/5.jpg
ORGANIZER;CN="The Uncommon Shop GmbH":MAILTO:info@theuncommonshop.ch
END:VEVENT
BEGIN:VEVENT
DTSTART;TZID=Europe/Zurich:20300928T123000
DTEND;TZID=Europe/Zurich:20300928T170000
DTSTAMP:20260420T071442
CREATED:20260319T110851Z
LAST-MODIFIED:20260325T125429Z
UID:10006058-1916829000-1916845200@theuncommonshop.ch
SUMMARY:Pokémon Rencontre & Échange
DESCRIPTION:Le très populaire Pokémon Meeting & Trade a lieu une fois par mois. Rencontrez\, échangez\, jouez et amusez-vous ! Rejoignez notre communauté Whatsapp et participez à la communauté Uncommon Shop !   \n\nhttps://chat.whatsapp.com/C6vflHrPJl80xKxExj3Wy6
URL:https://theuncommonshop.ch/fr/event/pokemon-rencontre-echange-2/2030-09-28/
LOCATION:The Uncommon Shop Romanshorn\, Bahnhofstrasse 16 / Alleestrasse 25\, Romanshorn\, 8590
CATEGORIES:Tournois
ATTACH;FMTTYPE=image/jpeg:https://theuncommonshop.ch/wp-content/uploads/2025/12/4.jpg
END:VEVENT
BEGIN:VEVENT
DTSTART;TZID=Europe/Zurich:20300928T124500
DTEND;TZID=Europe/Zurich:20300928T180000
DTSTAMP:20260420T071442
CREATED:20260319T110424Z
LAST-MODIFIED:20260325T125430Z
UID:10006627-1916829900-1916848800@theuncommonshop.ch
SUMMARY:Yu-Gi-Oh ! Locaux
DESCRIPTION:-Propre deck -Konami ID -PORTANT !!!!! Chaque joueur reçoit à l’entrée : 2x boosters des derniers sets 1x OTS Par participant\, 2x boosters des derniers sets de base sont ajoutés à la cagnotte qui sera ensuite répartie entre les 3 premières places. A partir de 10 joueurs\, un présentoir est ajouté à la cagnotte et pour chaque joueur supplémentaire\, deux boosters supplémentaires sont ajoutés à la cagnotte. Distribution des prix
URL:https://theuncommonshop.ch/fr/event/yu-gi-oh-locaux-2/2030-09-28/
LOCATION:The Uncommon Shop Romanshorn\, Bahnhofstrasse 16 / Alleestrasse 25\, Romanshorn\, 8590
CATEGORIES:Tournois
ATTACH;FMTTYPE=image/jpeg:https://theuncommonshop.ch/wp-content/uploads/2025/12/3.jpg
ORGANIZER;CN="The Uncommon Shop GmbH":MAILTO:info@theuncommonshop.ch
END:VEVENT
BEGIN:VEVENT
DTSTART;TZID=Europe/Zurich:20300928T130000
DTEND;TZID=Europe/Zurich:20300928T180000
DTSTAMP:20260420T071442
CREATED:20251218T095011Z
LAST-MODIFIED:20260416T070758Z
UID:10005451-1916830800-1916848800@theuncommonshop.ch
SUMMARY:Tournoi One Piece
DESCRIPTION:\nVous trouverez toutes les informations utiles dans notre groupe WhatsApp One Piece : \nRomanshorn: 13:00 – 18:00 (Open End) https://chat.whatsapp.com/KSo3Q4YmJlU5FXSZtvpThG \nSchaffhausen: 13:30 – 17:00 \n\n \n\n  
URL:https://theuncommonshop.ch/fr/event/tournoi-one-piece/2030-09-28/
LOCATION:The Uncommon Shop Romanshorn\, Bahnhofstrasse 16 / Alleestrasse 25\, Romanshorn\, 8590
CATEGORIES:Tournois
ATTACH;FMTTYPE=image/jpeg:https://theuncommonshop.ch/wp-content/uploads/2025/12/One-piece.jpg
ORGANIZER;CN="The Uncommon Shop GmbH":MAILTO:info@theuncommonshop.ch
END:VEVENT
BEGIN:VEVENT
DTSTART;TZID=Europe/Zurich:20301003T190000
DTEND;TZID=Europe/Zurich:20301003T210000
DTSTAMP:20260420T071442
CREATED:20260416T065956Z
LAST-MODIFIED:20260416T065956Z
UID:10010825-1917284400-1917291600@theuncommonshop.ch
SUMMARY:One Piece Turnier Schaffhausen
DESCRIPTION:19:00-21:00 (Open End)
URL:https://theuncommonshop.ch/fr/event/one-piece-turnier-schaffhausen/2030-10-03/
LOCATION:The Uncommon Shop Schaffhausen\, Beckenstube 2\, Schaffhausen\, 8200\, Switzerland
CATEGORIES:Tournois
ATTACH;FMTTYPE=image/jpeg:https://theuncommonshop.ch/wp-content/uploads/2025/12/One-piece.jpg
ORGANIZER;CN="The Uncommon Shop GmbH":MAILTO:info@theuncommonshop.ch
END:VEVENT
BEGIN:VEVENT
DTSTART;TZID=Europe/Zurich:20301004T170000
DTEND;TZID=Europe/Zurich:20301004T230000
DTSTAMP:20260420T071442
CREATED:20260319T110738Z
LAST-MODIFIED:20260325T125430Z
UID:10007152-1917363600-1917385200@theuncommonshop.ch
SUMMARY:Friday Night Magic
DESCRIPTION:Chaque vendredi\, c’est la Commander Night dans les magasins Uncommon de Romanshorn et Schaffhouse. Passez nous voir !
URL:https://theuncommonshop.ch/fr/event/friday-night-magic-4/2030-10-04/
LOCATION:The Uncommon Shop Romanshorn & Schaffhausen\, Bahnhofstrasse 16 / Beckenstube 2\, Romanshorn / Schaffhausen\, 8590 / 8200
CATEGORIES:Tournois
ATTACH;FMTTYPE=image/jpeg:https://theuncommonshop.ch/wp-content/uploads/2025/12/Kalender-Anzeige-1.jpg
ORGANIZER;CN="The Uncommon Shop GmbH":MAILTO:info@theuncommonshop.ch
END:VEVENT
BEGIN:VEVENT
DTSTART;TZID=Europe/Zurich:20301004T180000
DTEND;TZID=Europe/Zurich:20301004T210000
DTSTAMP:20260420T071442
CREATED:20260330T143048Z
LAST-MODIFIED:20260330T143112Z
UID:10009407-1917367200-1917378000@theuncommonshop.ch
SUMMARY:Dragonball TCG Tournament Event
DESCRIPTION:Préparer Bandai TCG Plus pour la connexion
URL:https://theuncommonshop.ch/fr/event/dragonball-tcg-tournament-event/2030-10-04/
CATEGORIES:Tournois
ATTACH;FMTTYPE=image/png:https://theuncommonshop.ch/wp-content/uploads/2026/03/9.png
END:VEVENT
BEGIN:VEVENT
DTSTART;TZID=Europe/Zurich:20301004T190000
DTEND;TZID=Europe/Zurich:20301004T223000
DTSTAMP:20260420T071442
CREATED:20260319T110115Z
LAST-MODIFIED:20260325T125430Z
UID:10006365-1917370800-1917383400@theuncommonshop.ch
SUMMARY:Livestream Twitch
DESCRIPTION:
URL:https://theuncommonshop.ch/fr/event/livestream-twitch-4/2030-10-04/
CATEGORIES:Flux en direct
ATTACH;FMTTYPE=image/jpeg:https://theuncommonshop.ch/wp-content/uploads/2026/01/5.jpg
ORGANIZER;CN="The Uncommon Shop GmbH":MAILTO:info@theuncommonshop.ch
END:VEVENT
BEGIN:VEVENT
DTSTART;TZID=Europe/Zurich:20301005T124500
DTEND;TZID=Europe/Zurich:20301005T180000
DTSTAMP:20260420T071442
CREATED:20260319T110424Z
LAST-MODIFIED:20260325T125430Z
UID:10006628-1917434700-1917453600@theuncommonshop.ch
SUMMARY:Yu-Gi-Oh ! Locaux
DESCRIPTION:-Propre deck -Konami ID -PORTANT !!!!! Chaque joueur reçoit à l’entrée : 2x boosters des derniers sets 1x OTS Par participant\, 2x boosters des derniers sets de base sont ajoutés à la cagnotte qui sera ensuite répartie entre les 3 premières places. A partir de 10 joueurs\, un présentoir est ajouté à la cagnotte et pour chaque joueur supplémentaire\, deux boosters supplémentaires sont ajoutés à la cagnotte. Distribution des prix
URL:https://theuncommonshop.ch/fr/event/yu-gi-oh-locaux-2/2030-10-05/
LOCATION:The Uncommon Shop Romanshorn\, Bahnhofstrasse 16 / Alleestrasse 25\, Romanshorn\, 8590
CATEGORIES:Tournois
ATTACH;FMTTYPE=image/jpeg:https://theuncommonshop.ch/wp-content/uploads/2025/12/3.jpg
ORGANIZER;CN="The Uncommon Shop GmbH":MAILTO:info@theuncommonshop.ch
END:VEVENT
BEGIN:VEVENT
DTSTART;TZID=Europe/Zurich:20301005T130000
DTEND;TZID=Europe/Zurich:20301005T180000
DTSTAMP:20260420T071442
CREATED:20251218T095011Z
LAST-MODIFIED:20260416T070758Z
UID:10005452-1917435600-1917453600@theuncommonshop.ch
SUMMARY:Tournoi One Piece
DESCRIPTION:\nVous trouverez toutes les informations utiles dans notre groupe WhatsApp One Piece : \nRomanshorn: 13:00 – 18:00 (Open End) https://chat.whatsapp.com/KSo3Q4YmJlU5FXSZtvpThG \nSchaffhausen: 13:30 – 17:00 \n\n \n\n  
URL:https://theuncommonshop.ch/fr/event/tournoi-one-piece/2030-10-05/
LOCATION:The Uncommon Shop Romanshorn\, Bahnhofstrasse 16 / Alleestrasse 25\, Romanshorn\, 8590
CATEGORIES:Tournois
ATTACH;FMTTYPE=image/jpeg:https://theuncommonshop.ch/wp-content/uploads/2025/12/One-piece.jpg
ORGANIZER;CN="The Uncommon Shop GmbH":MAILTO:info@theuncommonshop.ch
END:VEVENT
BEGIN:VEVENT
DTSTART;TZID=Europe/Zurich:20301010T190000
DTEND;TZID=Europe/Zurich:20301010T210000
DTSTAMP:20260420T071442
CREATED:20260416T065956Z
LAST-MODIFIED:20260416T065956Z
UID:10010826-1917889200-1917896400@theuncommonshop.ch
SUMMARY:One Piece Turnier Schaffhausen
DESCRIPTION:19:00-21:00 (Open End)
URL:https://theuncommonshop.ch/fr/event/one-piece-turnier-schaffhausen/2030-10-10/
LOCATION:The Uncommon Shop Schaffhausen\, Beckenstube 2\, Schaffhausen\, 8200\, Switzerland
CATEGORIES:Tournois
ATTACH;FMTTYPE=image/jpeg:https://theuncommonshop.ch/wp-content/uploads/2025/12/One-piece.jpg
ORGANIZER;CN="The Uncommon Shop GmbH":MAILTO:info@theuncommonshop.ch
END:VEVENT
BEGIN:VEVENT
DTSTART;TZID=Europe/Zurich:20301011T170000
DTEND;TZID=Europe/Zurich:20301011T230000
DTSTAMP:20260420T071442
CREATED:20260319T110738Z
LAST-MODIFIED:20260325T125430Z
UID:10007153-1917968400-1917990000@theuncommonshop.ch
SUMMARY:Friday Night Magic
DESCRIPTION:Chaque vendredi\, c’est la Commander Night dans les magasins Uncommon de Romanshorn et Schaffhouse. Passez nous voir !
URL:https://theuncommonshop.ch/fr/event/friday-night-magic-4/2030-10-11/
LOCATION:The Uncommon Shop Romanshorn & Schaffhausen\, Bahnhofstrasse 16 / Beckenstube 2\, Romanshorn / Schaffhausen\, 8590 / 8200
CATEGORIES:Tournois
ATTACH;FMTTYPE=image/jpeg:https://theuncommonshop.ch/wp-content/uploads/2025/12/Kalender-Anzeige-1.jpg
ORGANIZER;CN="The Uncommon Shop GmbH":MAILTO:info@theuncommonshop.ch
END:VEVENT
BEGIN:VEVENT
DTSTART;TZID=Europe/Zurich:20301011T180000
DTEND;TZID=Europe/Zurich:20301011T210000
DTSTAMP:20260420T071442
CREATED:20260330T143048Z
LAST-MODIFIED:20260330T143112Z
UID:10009408-1917972000-1917982800@theuncommonshop.ch
SUMMARY:Dragonball TCG Tournament Event
DESCRIPTION:Préparer Bandai TCG Plus pour la connexion
URL:https://theuncommonshop.ch/fr/event/dragonball-tcg-tournament-event/2030-10-11/
CATEGORIES:Tournois
ATTACH;FMTTYPE=image/png:https://theuncommonshop.ch/wp-content/uploads/2026/03/9.png
END:VEVENT
BEGIN:VEVENT
DTSTART;TZID=Europe/Zurich:20301011T190000
DTEND;TZID=Europe/Zurich:20301011T223000
DTSTAMP:20260420T071442
CREATED:20260319T110115Z
LAST-MODIFIED:20260325T125430Z
UID:10006366-1917975600-1917988200@theuncommonshop.ch
SUMMARY:Livestream Twitch
DESCRIPTION:
URL:https://theuncommonshop.ch/fr/event/livestream-twitch-4/2030-10-11/
CATEGORIES:Flux en direct
ATTACH;FMTTYPE=image/jpeg:https://theuncommonshop.ch/wp-content/uploads/2026/01/5.jpg
ORGANIZER;CN="The Uncommon Shop GmbH":MAILTO:info@theuncommonshop.ch
END:VEVENT
BEGIN:VEVENT
DTSTART;TZID=Europe/Zurich:20301012T124500
DTEND;TZID=Europe/Zurich:20301012T180000
DTSTAMP:20260420T071442
CREATED:20260319T110424Z
LAST-MODIFIED:20260325T125430Z
UID:10006629-1918039500-1918058400@theuncommonshop.ch
SUMMARY:Yu-Gi-Oh ! Locaux
DESCRIPTION:-Propre deck -Konami ID -PORTANT !!!!! Chaque joueur reçoit à l’entrée : 2x boosters des derniers sets 1x OTS Par participant\, 2x boosters des derniers sets de base sont ajoutés à la cagnotte qui sera ensuite répartie entre les 3 premières places. A partir de 10 joueurs\, un présentoir est ajouté à la cagnotte et pour chaque joueur supplémentaire\, deux boosters supplémentaires sont ajoutés à la cagnotte. Distribution des prix
URL:https://theuncommonshop.ch/fr/event/yu-gi-oh-locaux-2/2030-10-12/
LOCATION:The Uncommon Shop Romanshorn\, Bahnhofstrasse 16 / Alleestrasse 25\, Romanshorn\, 8590
CATEGORIES:Tournois
ATTACH;FMTTYPE=image/jpeg:https://theuncommonshop.ch/wp-content/uploads/2025/12/3.jpg
ORGANIZER;CN="The Uncommon Shop GmbH":MAILTO:info@theuncommonshop.ch
END:VEVENT
BEGIN:VEVENT
DTSTART;TZID=Europe/Zurich:20301012T130000
DTEND;TZID=Europe/Zurich:20301012T180000
DTSTAMP:20260420T071442
CREATED:20251218T095011Z
LAST-MODIFIED:20260416T070758Z
UID:10005453-1918040400-1918058400@theuncommonshop.ch
SUMMARY:Tournoi One Piece
DESCRIPTION:\nVous trouverez toutes les informations utiles dans notre groupe WhatsApp One Piece : \nRomanshorn: 13:00 – 18:00 (Open End) https://chat.whatsapp.com/KSo3Q4YmJlU5FXSZtvpThG \nSchaffhausen: 13:30 – 17:00 \n\n \n\n  
URL:https://theuncommonshop.ch/fr/event/tournoi-one-piece/2030-10-12/
LOCATION:The Uncommon Shop Romanshorn\, Bahnhofstrasse 16 / Alleestrasse 25\, Romanshorn\, 8590
CATEGORIES:Tournois
ATTACH;FMTTYPE=image/jpeg:https://theuncommonshop.ch/wp-content/uploads/2025/12/One-piece.jpg
ORGANIZER;CN="The Uncommon Shop GmbH":MAILTO:info@theuncommonshop.ch
END:VEVENT
BEGIN:VEVENT
DTSTART;TZID=Europe/Zurich:20301017T190000
DTEND;TZID=Europe/Zurich:20301017T210000
DTSTAMP:20260420T071442
CREATED:20260416T065956Z
LAST-MODIFIED:20260416T065956Z
UID:10010827-1918494000-1918501200@theuncommonshop.ch
SUMMARY:One Piece Turnier Schaffhausen
DESCRIPTION:19:00-21:00 (Open End)
URL:https://theuncommonshop.ch/fr/event/one-piece-turnier-schaffhausen/2030-10-17/
LOCATION:The Uncommon Shop Schaffhausen\, Beckenstube 2\, Schaffhausen\, 8200\, Switzerland
CATEGORIES:Tournois
ATTACH;FMTTYPE=image/jpeg:https://theuncommonshop.ch/wp-content/uploads/2025/12/One-piece.jpg
ORGANIZER;CN="The Uncommon Shop GmbH":MAILTO:info@theuncommonshop.ch
END:VEVENT
BEGIN:VEVENT
DTSTART;TZID=Europe/Zurich:20301018T170000
DTEND;TZID=Europe/Zurich:20301018T230000
DTSTAMP:20260420T071442
CREATED:20260319T110738Z
LAST-MODIFIED:20260325T125430Z
UID:10007154-1918573200-1918594800@theuncommonshop.ch
SUMMARY:Friday Night Magic
DESCRIPTION:Chaque vendredi\, c’est la Commander Night dans les magasins Uncommon de Romanshorn et Schaffhouse. Passez nous voir !
URL:https://theuncommonshop.ch/fr/event/friday-night-magic-4/2030-10-18/
LOCATION:The Uncommon Shop Romanshorn & Schaffhausen\, Bahnhofstrasse 16 / Beckenstube 2\, Romanshorn / Schaffhausen\, 8590 / 8200
CATEGORIES:Tournois
ATTACH;FMTTYPE=image/jpeg:https://theuncommonshop.ch/wp-content/uploads/2025/12/Kalender-Anzeige-1.jpg
ORGANIZER;CN="The Uncommon Shop GmbH":MAILTO:info@theuncommonshop.ch
END:VEVENT
BEGIN:VEVENT
DTSTART;TZID=Europe/Zurich:20301018T180000
DTEND;TZID=Europe/Zurich:20301018T210000
DTSTAMP:20260420T071442
CREATED:20260330T143048Z
LAST-MODIFIED:20260330T143112Z
UID:10009409-1918576800-1918587600@theuncommonshop.ch
SUMMARY:Dragonball TCG Tournament Event
DESCRIPTION:Préparer Bandai TCG Plus pour la connexion
URL:https://theuncommonshop.ch/fr/event/dragonball-tcg-tournament-event/2030-10-18/
CATEGORIES:Tournois
ATTACH;FMTTYPE=image/png:https://theuncommonshop.ch/wp-content/uploads/2026/03/9.png
END:VEVENT
END:VCALENDAR