BEGIN:VCALENDAR
VERSION:2.0
PRODID:-//Largest trading card shop in Switzerland - ECPv6.15.20//NONSGML v1.0//EN
CALSCALE:GREGORIAN
METHOD:PUBLISH
X-ORIGINAL-URL:https://theuncommonshop.ch/fr/
X-WR-CALDESC:Évènements pour Largest trading card shop in Switzerland
REFRESH-INTERVAL;VALUE=DURATION:PT1H
X-Robots-Tag:noindex
X-PUBLISHED-TTL:PT1H
BEGIN:VTIMEZONE
TZID:Europe/Zurich
BEGIN:DAYLIGHT
TZOFFSETFROM:+0100
TZOFFSETTO:+0200
TZNAME:CEST
DTSTART:20290325T010000
END:DAYLIGHT
BEGIN:STANDARD
TZOFFSETFROM:+0200
TZOFFSETTO:+0100
TZNAME:CET
DTSTART:20291028T010000
END:STANDARD
BEGIN:DAYLIGHT
TZOFFSETFROM:+0100
TZOFFSETTO:+0200
TZNAME:CEST
DTSTART:20300331T010000
END:DAYLIGHT
BEGIN:STANDARD
TZOFFSETFROM:+0200
TZOFFSETTO:+0100
TZNAME:CET
DTSTART:20301027T010000
END:STANDARD
BEGIN:DAYLIGHT
TZOFFSETFROM:+0100
TZOFFSETTO:+0200
TZNAME:CEST
DTSTART:20310330T010000
END:DAYLIGHT
BEGIN:STANDARD
TZOFFSETFROM:+0200
TZOFFSETTO:+0100
TZNAME:CET
DTSTART:20311026T010000
END:STANDARD
END:VTIMEZONE
BEGIN:VEVENT
DTSTART;TZID=Europe/Zurich:20300824T124500
DTEND;TZID=Europe/Zurich:20300824T180000
DTSTAMP:20260420T055655
CREATED:20260319T110424Z
LAST-MODIFIED:20260325T125430Z
UID:10006622-1913805900-1913824800@theuncommonshop.ch
SUMMARY:Yu-Gi-Oh ! Locaux
DESCRIPTION:-Propre deck -Konami ID -PORTANT !!!!! Chaque joueur reçoit à l’entrée : 2x boosters des derniers sets 1x OTS Par participant\, 2x boosters des derniers sets de base sont ajoutés à la cagnotte qui sera ensuite répartie entre les 3 premières places. A partir de 10 joueurs\, un présentoir est ajouté à la cagnotte et pour chaque joueur supplémentaire\, deux boosters supplémentaires sont ajoutés à la cagnotte. Distribution des prix
URL:https://theuncommonshop.ch/fr/event/yu-gi-oh-locaux-2/2030-08-24/
LOCATION:The Uncommon Shop Romanshorn\, Bahnhofstrasse 16 / Alleestrasse 25\, Romanshorn\, 8590
CATEGORIES:Tournois
ATTACH;FMTTYPE=image/jpeg:https://theuncommonshop.ch/wp-content/uploads/2025/12/3.jpg
ORGANIZER;CN="The Uncommon Shop GmbH":MAILTO:info@theuncommonshop.ch
END:VEVENT
BEGIN:VEVENT
DTSTART;TZID=Europe/Zurich:20300824T130000
DTEND;TZID=Europe/Zurich:20300824T180000
DTSTAMP:20260420T055655
CREATED:20251218T095011Z
LAST-MODIFIED:20260416T070758Z
UID:10005446-1913806800-1913824800@theuncommonshop.ch
SUMMARY:Tournoi One Piece
DESCRIPTION:\nVous trouverez toutes les informations utiles dans notre groupe WhatsApp One Piece : \nRomanshorn: 13:00 – 18:00 (Open End) https://chat.whatsapp.com/KSo3Q4YmJlU5FXSZtvpThG \nSchaffhausen: 13:30 – 17:00 \n\n \n\n  
URL:https://theuncommonshop.ch/fr/event/tournoi-one-piece/2030-08-24/
LOCATION:The Uncommon Shop Romanshorn\, Bahnhofstrasse 16 / Alleestrasse 25\, Romanshorn\, 8590
CATEGORIES:Tournois
ATTACH;FMTTYPE=image/jpeg:https://theuncommonshop.ch/wp-content/uploads/2025/12/One-piece.jpg
ORGANIZER;CN="The Uncommon Shop GmbH":MAILTO:info@theuncommonshop.ch
END:VEVENT
BEGIN:VEVENT
DTSTART;TZID=Europe/Zurich:20300829T190000
DTEND;TZID=Europe/Zurich:20300829T210000
DTSTAMP:20260420T055655
CREATED:20260416T065956Z
LAST-MODIFIED:20260416T065956Z
UID:10010820-1914260400-1914267600@theuncommonshop.ch
SUMMARY:One Piece Turnier Schaffhausen
DESCRIPTION:19:00-21:00 (Open End)
URL:https://theuncommonshop.ch/fr/event/one-piece-turnier-schaffhausen/2030-08-29/
LOCATION:The Uncommon Shop Schaffhausen\, Beckenstube 2\, Schaffhausen\, 8200\, Switzerland
CATEGORIES:Tournois
ATTACH;FMTTYPE=image/jpeg:https://theuncommonshop.ch/wp-content/uploads/2025/12/One-piece.jpg
ORGANIZER;CN="The Uncommon Shop GmbH":MAILTO:info@theuncommonshop.ch
END:VEVENT
BEGIN:VEVENT
DTSTART;TZID=Europe/Zurich:20300830T170000
DTEND;TZID=Europe/Zurich:20300830T230000
DTSTAMP:20260420T055655
CREATED:20260319T110738Z
LAST-MODIFIED:20260325T125430Z
UID:10007147-1914339600-1914361200@theuncommonshop.ch
SUMMARY:Friday Night Magic
DESCRIPTION:Chaque vendredi\, c’est la Commander Night dans les magasins Uncommon de Romanshorn et Schaffhouse. Passez nous voir !
URL:https://theuncommonshop.ch/fr/event/friday-night-magic-4/2030-08-30/
LOCATION:The Uncommon Shop Romanshorn & Schaffhausen\, Bahnhofstrasse 16 / Beckenstube 2\, Romanshorn / Schaffhausen\, 8590 / 8200
CATEGORIES:Tournois
ATTACH;FMTTYPE=image/jpeg:https://theuncommonshop.ch/wp-content/uploads/2025/12/Kalender-Anzeige-1.jpg
ORGANIZER;CN="The Uncommon Shop GmbH":MAILTO:info@theuncommonshop.ch
END:VEVENT
BEGIN:VEVENT
DTSTART;TZID=Europe/Zurich:20300830T180000
DTEND;TZID=Europe/Zurich:20300830T210000
DTSTAMP:20260420T055655
CREATED:20260330T143048Z
LAST-MODIFIED:20260330T143112Z
UID:10009402-1914343200-1914354000@theuncommonshop.ch
SUMMARY:Dragonball TCG Tournament Event
DESCRIPTION:Préparer Bandai TCG Plus pour la connexion
URL:https://theuncommonshop.ch/fr/event/dragonball-tcg-tournament-event/2030-08-30/
CATEGORIES:Tournois
ATTACH;FMTTYPE=image/png:https://theuncommonshop.ch/wp-content/uploads/2026/03/9.png
END:VEVENT
BEGIN:VEVENT
DTSTART;TZID=Europe/Zurich:20300830T190000
DTEND;TZID=Europe/Zurich:20300830T223000
DTSTAMP:20260420T055655
CREATED:20260319T110115Z
LAST-MODIFIED:20260325T125430Z
UID:10006360-1914346800-1914359400@theuncommonshop.ch
SUMMARY:Livestream Twitch
DESCRIPTION:
URL:https://theuncommonshop.ch/fr/event/livestream-twitch-4/2030-08-30/
CATEGORIES:Flux en direct
ATTACH;FMTTYPE=image/jpeg:https://theuncommonshop.ch/wp-content/uploads/2026/01/5.jpg
ORGANIZER;CN="The Uncommon Shop GmbH":MAILTO:info@theuncommonshop.ch
END:VEVENT
BEGIN:VEVENT
DTSTART;TZID=Europe/Zurich:20300831T124500
DTEND;TZID=Europe/Zurich:20300831T180000
DTSTAMP:20260420T055655
CREATED:20260319T110424Z
LAST-MODIFIED:20260325T125430Z
UID:10006623-1914410700-1914429600@theuncommonshop.ch
SUMMARY:Yu-Gi-Oh ! Locaux
DESCRIPTION:-Propre deck -Konami ID -PORTANT !!!!! Chaque joueur reçoit à l’entrée : 2x boosters des derniers sets 1x OTS Par participant\, 2x boosters des derniers sets de base sont ajoutés à la cagnotte qui sera ensuite répartie entre les 3 premières places. A partir de 10 joueurs\, un présentoir est ajouté à la cagnotte et pour chaque joueur supplémentaire\, deux boosters supplémentaires sont ajoutés à la cagnotte. Distribution des prix
URL:https://theuncommonshop.ch/fr/event/yu-gi-oh-locaux-2/2030-08-31/
LOCATION:The Uncommon Shop Romanshorn\, Bahnhofstrasse 16 / Alleestrasse 25\, Romanshorn\, 8590
CATEGORIES:Tournois
ATTACH;FMTTYPE=image/jpeg:https://theuncommonshop.ch/wp-content/uploads/2025/12/3.jpg
ORGANIZER;CN="The Uncommon Shop GmbH":MAILTO:info@theuncommonshop.ch
END:VEVENT
BEGIN:VEVENT
DTSTART;TZID=Europe/Zurich:20300831T130000
DTEND;TZID=Europe/Zurich:20300831T180000
DTSTAMP:20260420T055655
CREATED:20251218T095011Z
LAST-MODIFIED:20260416T070758Z
UID:10005447-1914411600-1914429600@theuncommonshop.ch
SUMMARY:Tournoi One Piece
DESCRIPTION:\nVous trouverez toutes les informations utiles dans notre groupe WhatsApp One Piece : \nRomanshorn: 13:00 – 18:00 (Open End) https://chat.whatsapp.com/KSo3Q4YmJlU5FXSZtvpThG \nSchaffhausen: 13:30 – 17:00 \n\n \n\n  
URL:https://theuncommonshop.ch/fr/event/tournoi-one-piece/2030-08-31/
LOCATION:The Uncommon Shop Romanshorn\, Bahnhofstrasse 16 / Alleestrasse 25\, Romanshorn\, 8590
CATEGORIES:Tournois
ATTACH;FMTTYPE=image/jpeg:https://theuncommonshop.ch/wp-content/uploads/2025/12/One-piece.jpg
ORGANIZER;CN="The Uncommon Shop GmbH":MAILTO:info@theuncommonshop.ch
END:VEVENT
BEGIN:VEVENT
DTSTART;TZID=Europe/Zurich:20300905T190000
DTEND;TZID=Europe/Zurich:20300905T210000
DTSTAMP:20260420T055655
CREATED:20260416T065956Z
LAST-MODIFIED:20260416T065956Z
UID:10010821-1914865200-1914872400@theuncommonshop.ch
SUMMARY:One Piece Turnier Schaffhausen
DESCRIPTION:19:00-21:00 (Open End)
URL:https://theuncommonshop.ch/fr/event/one-piece-turnier-schaffhausen/2030-09-05/
LOCATION:The Uncommon Shop Schaffhausen\, Beckenstube 2\, Schaffhausen\, 8200\, Switzerland
CATEGORIES:Tournois
ATTACH;FMTTYPE=image/jpeg:https://theuncommonshop.ch/wp-content/uploads/2025/12/One-piece.jpg
ORGANIZER;CN="The Uncommon Shop GmbH":MAILTO:info@theuncommonshop.ch
END:VEVENT
BEGIN:VEVENT
DTSTART;TZID=Europe/Zurich:20300906T170000
DTEND;TZID=Europe/Zurich:20300906T230000
DTSTAMP:20260420T055655
CREATED:20260319T110738Z
LAST-MODIFIED:20260325T125430Z
UID:10007148-1914944400-1914966000@theuncommonshop.ch
SUMMARY:Friday Night Magic
DESCRIPTION:Chaque vendredi\, c’est la Commander Night dans les magasins Uncommon de Romanshorn et Schaffhouse. Passez nous voir !
URL:https://theuncommonshop.ch/fr/event/friday-night-magic-4/2030-09-06/
LOCATION:The Uncommon Shop Romanshorn & Schaffhausen\, Bahnhofstrasse 16 / Beckenstube 2\, Romanshorn / Schaffhausen\, 8590 / 8200
CATEGORIES:Tournois
ATTACH;FMTTYPE=image/jpeg:https://theuncommonshop.ch/wp-content/uploads/2025/12/Kalender-Anzeige-1.jpg
ORGANIZER;CN="The Uncommon Shop GmbH":MAILTO:info@theuncommonshop.ch
END:VEVENT
BEGIN:VEVENT
DTSTART;TZID=Europe/Zurich:20300906T180000
DTEND;TZID=Europe/Zurich:20300906T210000
DTSTAMP:20260420T055655
CREATED:20260330T143048Z
LAST-MODIFIED:20260330T143112Z
UID:10009403-1914948000-1914958800@theuncommonshop.ch
SUMMARY:Dragonball TCG Tournament Event
DESCRIPTION:Préparer Bandai TCG Plus pour la connexion
URL:https://theuncommonshop.ch/fr/event/dragonball-tcg-tournament-event/2030-09-06/
CATEGORIES:Tournois
ATTACH;FMTTYPE=image/png:https://theuncommonshop.ch/wp-content/uploads/2026/03/9.png
END:VEVENT
BEGIN:VEVENT
DTSTART;TZID=Europe/Zurich:20300906T190000
DTEND;TZID=Europe/Zurich:20300906T223000
DTSTAMP:20260420T055655
CREATED:20260319T110115Z
LAST-MODIFIED:20260325T125430Z
UID:10006361-1914951600-1914964200@theuncommonshop.ch
SUMMARY:Livestream Twitch
DESCRIPTION:
URL:https://theuncommonshop.ch/fr/event/livestream-twitch-4/2030-09-06/
CATEGORIES:Flux en direct
ATTACH;FMTTYPE=image/jpeg:https://theuncommonshop.ch/wp-content/uploads/2026/01/5.jpg
ORGANIZER;CN="The Uncommon Shop GmbH":MAILTO:info@theuncommonshop.ch
END:VEVENT
BEGIN:VEVENT
DTSTART;TZID=Europe/Zurich:20300907T124500
DTEND;TZID=Europe/Zurich:20300907T180000
DTSTAMP:20260420T055655
CREATED:20260319T110424Z
LAST-MODIFIED:20260325T125430Z
UID:10006624-1915015500-1915034400@theuncommonshop.ch
SUMMARY:Yu-Gi-Oh ! Locaux
DESCRIPTION:-Propre deck -Konami ID -PORTANT !!!!! Chaque joueur reçoit à l’entrée : 2x boosters des derniers sets 1x OTS Par participant\, 2x boosters des derniers sets de base sont ajoutés à la cagnotte qui sera ensuite répartie entre les 3 premières places. A partir de 10 joueurs\, un présentoir est ajouté à la cagnotte et pour chaque joueur supplémentaire\, deux boosters supplémentaires sont ajoutés à la cagnotte. Distribution des prix
URL:https://theuncommonshop.ch/fr/event/yu-gi-oh-locaux-2/2030-09-07/
LOCATION:The Uncommon Shop Romanshorn\, Bahnhofstrasse 16 / Alleestrasse 25\, Romanshorn\, 8590
CATEGORIES:Tournois
ATTACH;FMTTYPE=image/jpeg:https://theuncommonshop.ch/wp-content/uploads/2025/12/3.jpg
ORGANIZER;CN="The Uncommon Shop GmbH":MAILTO:info@theuncommonshop.ch
END:VEVENT
BEGIN:VEVENT
DTSTART;TZID=Europe/Zurich:20300907T130000
DTEND;TZID=Europe/Zurich:20300907T180000
DTSTAMP:20260420T055655
CREATED:20251218T095011Z
LAST-MODIFIED:20260416T070758Z
UID:10005448-1915016400-1915034400@theuncommonshop.ch
SUMMARY:Tournoi One Piece
DESCRIPTION:\nVous trouverez toutes les informations utiles dans notre groupe WhatsApp One Piece : \nRomanshorn: 13:00 – 18:00 (Open End) https://chat.whatsapp.com/KSo3Q4YmJlU5FXSZtvpThG \nSchaffhausen: 13:30 – 17:00 \n\n \n\n  
URL:https://theuncommonshop.ch/fr/event/tournoi-one-piece/2030-09-07/
LOCATION:The Uncommon Shop Romanshorn\, Bahnhofstrasse 16 / Alleestrasse 25\, Romanshorn\, 8590
CATEGORIES:Tournois
ATTACH;FMTTYPE=image/jpeg:https://theuncommonshop.ch/wp-content/uploads/2025/12/One-piece.jpg
ORGANIZER;CN="The Uncommon Shop GmbH":MAILTO:info@theuncommonshop.ch
END:VEVENT
BEGIN:VEVENT
DTSTART;TZID=Europe/Zurich:20300912T190000
DTEND;TZID=Europe/Zurich:20300912T210000
DTSTAMP:20260420T055655
CREATED:20260416T065956Z
LAST-MODIFIED:20260416T065956Z
UID:10010822-1915470000-1915477200@theuncommonshop.ch
SUMMARY:One Piece Turnier Schaffhausen
DESCRIPTION:19:00-21:00 (Open End)
URL:https://theuncommonshop.ch/fr/event/one-piece-turnier-schaffhausen/2030-09-12/
LOCATION:The Uncommon Shop Schaffhausen\, Beckenstube 2\, Schaffhausen\, 8200\, Switzerland
CATEGORIES:Tournois
ATTACH;FMTTYPE=image/jpeg:https://theuncommonshop.ch/wp-content/uploads/2025/12/One-piece.jpg
ORGANIZER;CN="The Uncommon Shop GmbH":MAILTO:info@theuncommonshop.ch
END:VEVENT
BEGIN:VEVENT
DTSTART;TZID=Europe/Zurich:20300913T170000
DTEND;TZID=Europe/Zurich:20300913T230000
DTSTAMP:20260420T055655
CREATED:20260319T110738Z
LAST-MODIFIED:20260325T125430Z
UID:10007149-1915549200-1915570800@theuncommonshop.ch
SUMMARY:Friday Night Magic
DESCRIPTION:Chaque vendredi\, c’est la Commander Night dans les magasins Uncommon de Romanshorn et Schaffhouse. Passez nous voir !
URL:https://theuncommonshop.ch/fr/event/friday-night-magic-4/2030-09-13/
LOCATION:The Uncommon Shop Romanshorn & Schaffhausen\, Bahnhofstrasse 16 / Beckenstube 2\, Romanshorn / Schaffhausen\, 8590 / 8200
CATEGORIES:Tournois
ATTACH;FMTTYPE=image/jpeg:https://theuncommonshop.ch/wp-content/uploads/2025/12/Kalender-Anzeige-1.jpg
ORGANIZER;CN="The Uncommon Shop GmbH":MAILTO:info@theuncommonshop.ch
END:VEVENT
BEGIN:VEVENT
DTSTART;TZID=Europe/Zurich:20300913T180000
DTEND;TZID=Europe/Zurich:20300913T210000
DTSTAMP:20260420T055655
CREATED:20260330T143048Z
LAST-MODIFIED:20260330T143112Z
UID:10009404-1915552800-1915563600@theuncommonshop.ch
SUMMARY:Dragonball TCG Tournament Event
DESCRIPTION:Préparer Bandai TCG Plus pour la connexion
URL:https://theuncommonshop.ch/fr/event/dragonball-tcg-tournament-event/2030-09-13/
CATEGORIES:Tournois
ATTACH;FMTTYPE=image/png:https://theuncommonshop.ch/wp-content/uploads/2026/03/9.png
END:VEVENT
BEGIN:VEVENT
DTSTART;TZID=Europe/Zurich:20300913T190000
DTEND;TZID=Europe/Zurich:20300913T223000
DTSTAMP:20260420T055655
CREATED:20260319T110115Z
LAST-MODIFIED:20260325T125430Z
UID:10006362-1915556400-1915569000@theuncommonshop.ch
SUMMARY:Livestream Twitch
DESCRIPTION:
URL:https://theuncommonshop.ch/fr/event/livestream-twitch-4/2030-09-13/
CATEGORIES:Flux en direct
ATTACH;FMTTYPE=image/jpeg:https://theuncommonshop.ch/wp-content/uploads/2026/01/5.jpg
ORGANIZER;CN="The Uncommon Shop GmbH":MAILTO:info@theuncommonshop.ch
END:VEVENT
BEGIN:VEVENT
DTSTART;TZID=Europe/Zurich:20300914T124500
DTEND;TZID=Europe/Zurich:20300914T180000
DTSTAMP:20260420T055655
CREATED:20260319T110424Z
LAST-MODIFIED:20260325T125430Z
UID:10006625-1915620300-1915639200@theuncommonshop.ch
SUMMARY:Yu-Gi-Oh ! Locaux
DESCRIPTION:-Propre deck -Konami ID -PORTANT !!!!! Chaque joueur reçoit à l’entrée : 2x boosters des derniers sets 1x OTS Par participant\, 2x boosters des derniers sets de base sont ajoutés à la cagnotte qui sera ensuite répartie entre les 3 premières places. A partir de 10 joueurs\, un présentoir est ajouté à la cagnotte et pour chaque joueur supplémentaire\, deux boosters supplémentaires sont ajoutés à la cagnotte. Distribution des prix
URL:https://theuncommonshop.ch/fr/event/yu-gi-oh-locaux-2/2030-09-14/
LOCATION:The Uncommon Shop Romanshorn\, Bahnhofstrasse 16 / Alleestrasse 25\, Romanshorn\, 8590
CATEGORIES:Tournois
ATTACH;FMTTYPE=image/jpeg:https://theuncommonshop.ch/wp-content/uploads/2025/12/3.jpg
ORGANIZER;CN="The Uncommon Shop GmbH":MAILTO:info@theuncommonshop.ch
END:VEVENT
BEGIN:VEVENT
DTSTART;TZID=Europe/Zurich:20300914T130000
DTEND;TZID=Europe/Zurich:20300914T180000
DTSTAMP:20260420T055655
CREATED:20251218T095011Z
LAST-MODIFIED:20260416T070758Z
UID:10005449-1915621200-1915639200@theuncommonshop.ch
SUMMARY:Tournoi One Piece
DESCRIPTION:\nVous trouverez toutes les informations utiles dans notre groupe WhatsApp One Piece : \nRomanshorn: 13:00 – 18:00 (Open End) https://chat.whatsapp.com/KSo3Q4YmJlU5FXSZtvpThG \nSchaffhausen: 13:30 – 17:00 \n\n \n\n  
URL:https://theuncommonshop.ch/fr/event/tournoi-one-piece/2030-09-14/
LOCATION:The Uncommon Shop Romanshorn\, Bahnhofstrasse 16 / Alleestrasse 25\, Romanshorn\, 8590
CATEGORIES:Tournois
ATTACH;FMTTYPE=image/jpeg:https://theuncommonshop.ch/wp-content/uploads/2025/12/One-piece.jpg
ORGANIZER;CN="The Uncommon Shop GmbH":MAILTO:info@theuncommonshop.ch
END:VEVENT
BEGIN:VEVENT
DTSTART;TZID=Europe/Zurich:20300919T190000
DTEND;TZID=Europe/Zurich:20300919T210000
DTSTAMP:20260420T055655
CREATED:20260416T065956Z
LAST-MODIFIED:20260416T065956Z
UID:10010823-1916074800-1916082000@theuncommonshop.ch
SUMMARY:One Piece Turnier Schaffhausen
DESCRIPTION:19:00-21:00 (Open End)
URL:https://theuncommonshop.ch/fr/event/one-piece-turnier-schaffhausen/2030-09-19/
LOCATION:The Uncommon Shop Schaffhausen\, Beckenstube 2\, Schaffhausen\, 8200\, Switzerland
CATEGORIES:Tournois
ATTACH;FMTTYPE=image/jpeg:https://theuncommonshop.ch/wp-content/uploads/2025/12/One-piece.jpg
ORGANIZER;CN="The Uncommon Shop GmbH":MAILTO:info@theuncommonshop.ch
END:VEVENT
BEGIN:VEVENT
DTSTART;TZID=Europe/Zurich:20300920T170000
DTEND;TZID=Europe/Zurich:20300920T230000
DTSTAMP:20260420T055655
CREATED:20260319T110738Z
LAST-MODIFIED:20260325T125430Z
UID:10007150-1916154000-1916175600@theuncommonshop.ch
SUMMARY:Friday Night Magic
DESCRIPTION:Chaque vendredi\, c’est la Commander Night dans les magasins Uncommon de Romanshorn et Schaffhouse. Passez nous voir !
URL:https://theuncommonshop.ch/fr/event/friday-night-magic-4/2030-09-20/
LOCATION:The Uncommon Shop Romanshorn & Schaffhausen\, Bahnhofstrasse 16 / Beckenstube 2\, Romanshorn / Schaffhausen\, 8590 / 8200
CATEGORIES:Tournois
ATTACH;FMTTYPE=image/jpeg:https://theuncommonshop.ch/wp-content/uploads/2025/12/Kalender-Anzeige-1.jpg
ORGANIZER;CN="The Uncommon Shop GmbH":MAILTO:info@theuncommonshop.ch
END:VEVENT
BEGIN:VEVENT
DTSTART;TZID=Europe/Zurich:20300920T180000
DTEND;TZID=Europe/Zurich:20300920T210000
DTSTAMP:20260420T055655
CREATED:20260330T143048Z
LAST-MODIFIED:20260330T143112Z
UID:10009405-1916157600-1916168400@theuncommonshop.ch
SUMMARY:Dragonball TCG Tournament Event
DESCRIPTION:Préparer Bandai TCG Plus pour la connexion
URL:https://theuncommonshop.ch/fr/event/dragonball-tcg-tournament-event/2030-09-20/
CATEGORIES:Tournois
ATTACH;FMTTYPE=image/png:https://theuncommonshop.ch/wp-content/uploads/2026/03/9.png
END:VEVENT
BEGIN:VEVENT
DTSTART;TZID=Europe/Zurich:20300920T190000
DTEND;TZID=Europe/Zurich:20300920T223000
DTSTAMP:20260420T055655
CREATED:20260319T110115Z
LAST-MODIFIED:20260325T125430Z
UID:10006363-1916161200-1916173800@theuncommonshop.ch
SUMMARY:Livestream Twitch
DESCRIPTION:
URL:https://theuncommonshop.ch/fr/event/livestream-twitch-4/2030-09-20/
CATEGORIES:Flux en direct
ATTACH;FMTTYPE=image/jpeg:https://theuncommonshop.ch/wp-content/uploads/2026/01/5.jpg
ORGANIZER;CN="The Uncommon Shop GmbH":MAILTO:info@theuncommonshop.ch
END:VEVENT
BEGIN:VEVENT
DTSTART;TZID=Europe/Zurich:20300921T124500
DTEND;TZID=Europe/Zurich:20300921T180000
DTSTAMP:20260420T055655
CREATED:20260319T110424Z
LAST-MODIFIED:20260325T125430Z
UID:10006626-1916225100-1916244000@theuncommonshop.ch
SUMMARY:Yu-Gi-Oh ! Locaux
DESCRIPTION:-Propre deck -Konami ID -PORTANT !!!!! Chaque joueur reçoit à l’entrée : 2x boosters des derniers sets 1x OTS Par participant\, 2x boosters des derniers sets de base sont ajoutés à la cagnotte qui sera ensuite répartie entre les 3 premières places. A partir de 10 joueurs\, un présentoir est ajouté à la cagnotte et pour chaque joueur supplémentaire\, deux boosters supplémentaires sont ajoutés à la cagnotte. Distribution des prix
URL:https://theuncommonshop.ch/fr/event/yu-gi-oh-locaux-2/2030-09-21/
LOCATION:The Uncommon Shop Romanshorn\, Bahnhofstrasse 16 / Alleestrasse 25\, Romanshorn\, 8590
CATEGORIES:Tournois
ATTACH;FMTTYPE=image/jpeg:https://theuncommonshop.ch/wp-content/uploads/2025/12/3.jpg
ORGANIZER;CN="The Uncommon Shop GmbH":MAILTO:info@theuncommonshop.ch
END:VEVENT
BEGIN:VEVENT
DTSTART;TZID=Europe/Zurich:20300921T130000
DTEND;TZID=Europe/Zurich:20300921T180000
DTSTAMP:20260420T055655
CREATED:20251218T095011Z
LAST-MODIFIED:20260416T070758Z
UID:10005450-1916226000-1916244000@theuncommonshop.ch
SUMMARY:Tournoi One Piece
DESCRIPTION:\nVous trouverez toutes les informations utiles dans notre groupe WhatsApp One Piece : \nRomanshorn: 13:00 – 18:00 (Open End) https://chat.whatsapp.com/KSo3Q4YmJlU5FXSZtvpThG \nSchaffhausen: 13:30 – 17:00 \n\n \n\n  
URL:https://theuncommonshop.ch/fr/event/tournoi-one-piece/2030-09-21/
LOCATION:The Uncommon Shop Romanshorn\, Bahnhofstrasse 16 / Alleestrasse 25\, Romanshorn\, 8590
CATEGORIES:Tournois
ATTACH;FMTTYPE=image/jpeg:https://theuncommonshop.ch/wp-content/uploads/2025/12/One-piece.jpg
ORGANIZER;CN="The Uncommon Shop GmbH":MAILTO:info@theuncommonshop.ch
END:VEVENT
BEGIN:VEVENT
DTSTART;TZID=Europe/Zurich:20300926T190000
DTEND;TZID=Europe/Zurich:20300926T210000
DTSTAMP:20260420T055655
CREATED:20260416T065956Z
LAST-MODIFIED:20260416T065956Z
UID:10010824-1916679600-1916686800@theuncommonshop.ch
SUMMARY:One Piece Turnier Schaffhausen
DESCRIPTION:19:00-21:00 (Open End)
URL:https://theuncommonshop.ch/fr/event/one-piece-turnier-schaffhausen/2030-09-26/
LOCATION:The Uncommon Shop Schaffhausen\, Beckenstube 2\, Schaffhausen\, 8200\, Switzerland
CATEGORIES:Tournois
ATTACH;FMTTYPE=image/jpeg:https://theuncommonshop.ch/wp-content/uploads/2025/12/One-piece.jpg
ORGANIZER;CN="The Uncommon Shop GmbH":MAILTO:info@theuncommonshop.ch
END:VEVENT
BEGIN:VEVENT
DTSTART;TZID=Europe/Zurich:20300927T170000
DTEND;TZID=Europe/Zurich:20300927T230000
DTSTAMP:20260420T055655
CREATED:20260319T110738Z
LAST-MODIFIED:20260325T125430Z
UID:10007151-1916758800-1916780400@theuncommonshop.ch
SUMMARY:Friday Night Magic
DESCRIPTION:Chaque vendredi\, c’est la Commander Night dans les magasins Uncommon de Romanshorn et Schaffhouse. Passez nous voir !
URL:https://theuncommonshop.ch/fr/event/friday-night-magic-4/2030-09-27/
LOCATION:The Uncommon Shop Romanshorn & Schaffhausen\, Bahnhofstrasse 16 / Beckenstube 2\, Romanshorn / Schaffhausen\, 8590 / 8200
CATEGORIES:Tournois
ATTACH;FMTTYPE=image/jpeg:https://theuncommonshop.ch/wp-content/uploads/2025/12/Kalender-Anzeige-1.jpg
ORGANIZER;CN="The Uncommon Shop GmbH":MAILTO:info@theuncommonshop.ch
END:VEVENT
BEGIN:VEVENT
DTSTART;TZID=Europe/Zurich:20300927T180000
DTEND;TZID=Europe/Zurich:20300927T210000
DTSTAMP:20260420T055655
CREATED:20260330T143048Z
LAST-MODIFIED:20260330T143112Z
UID:10009406-1916762400-1916773200@theuncommonshop.ch
SUMMARY:Dragonball TCG Tournament Event
DESCRIPTION:Préparer Bandai TCG Plus pour la connexion
URL:https://theuncommonshop.ch/fr/event/dragonball-tcg-tournament-event/2030-09-27/
CATEGORIES:Tournois
ATTACH;FMTTYPE=image/png:https://theuncommonshop.ch/wp-content/uploads/2026/03/9.png
END:VEVENT
BEGIN:VEVENT
DTSTART;TZID=Europe/Zurich:20300927T190000
DTEND;TZID=Europe/Zurich:20300927T223000
DTSTAMP:20260420T055655
CREATED:20260319T110115Z
LAST-MODIFIED:20260325T125430Z
UID:10006364-1916766000-1916778600@theuncommonshop.ch
SUMMARY:Livestream Twitch
DESCRIPTION:
URL:https://theuncommonshop.ch/fr/event/livestream-twitch-4/2030-09-27/
CATEGORIES:Flux en direct
ATTACH;FMTTYPE=image/jpeg:https://theuncommonshop.ch/wp-content/uploads/2026/01/5.jpg
ORGANIZER;CN="The Uncommon Shop GmbH":MAILTO:info@theuncommonshop.ch
END:VEVENT
END:VCALENDAR