BEGIN:VCALENDAR
VERSION:2.0
PRODID:-//Largest trading card shop in Switzerland - ECPv6.15.20//NONSGML v1.0//EN
CALSCALE:GREGORIAN
METHOD:PUBLISH
X-ORIGINAL-URL:https://theuncommonshop.ch/fr/
X-WR-CALDESC:Évènements pour Largest trading card shop in Switzerland
REFRESH-INTERVAL;VALUE=DURATION:PT1H
X-Robots-Tag:noindex
X-PUBLISHED-TTL:PT1H
BEGIN:VTIMEZONE
TZID:Europe/Zurich
BEGIN:DAYLIGHT
TZOFFSETFROM:+0100
TZOFFSETTO:+0200
TZNAME:CEST
DTSTART:20290325T010000
END:DAYLIGHT
BEGIN:STANDARD
TZOFFSETFROM:+0200
TZOFFSETTO:+0100
TZNAME:CET
DTSTART:20291028T010000
END:STANDARD
BEGIN:DAYLIGHT
TZOFFSETFROM:+0100
TZOFFSETTO:+0200
TZNAME:CEST
DTSTART:20300331T010000
END:DAYLIGHT
BEGIN:STANDARD
TZOFFSETFROM:+0200
TZOFFSETTO:+0100
TZNAME:CET
DTSTART:20301027T010000
END:STANDARD
BEGIN:DAYLIGHT
TZOFFSETFROM:+0100
TZOFFSETTO:+0200
TZNAME:CEST
DTSTART:20310330T010000
END:DAYLIGHT
BEGIN:STANDARD
TZOFFSETFROM:+0200
TZOFFSETTO:+0100
TZNAME:CET
DTSTART:20311026T010000
END:STANDARD
END:VTIMEZONE
BEGIN:VEVENT
DTSTART;TZID=Europe/Zurich:20300803T130000
DTEND;TZID=Europe/Zurich:20300803T180000
DTSTAMP:20260420T041023
CREATED:20251218T095011Z
LAST-MODIFIED:20260416T070758Z
UID:10005443-1911992400-1912010400@theuncommonshop.ch
SUMMARY:Tournoi One Piece
DESCRIPTION:\nVous trouverez toutes les informations utiles dans notre groupe WhatsApp One Piece : \nRomanshorn: 13:00 – 18:00 (Open End) https://chat.whatsapp.com/KSo3Q4YmJlU5FXSZtvpThG \nSchaffhausen: 13:30 – 17:00 \n\n \n\n  
URL:https://theuncommonshop.ch/fr/event/tournoi-one-piece/2030-08-03/
LOCATION:The Uncommon Shop Romanshorn\, Bahnhofstrasse 16 / Alleestrasse 25\, Romanshorn\, 8590
CATEGORIES:Tournois
ATTACH;FMTTYPE=image/jpeg:https://theuncommonshop.ch/wp-content/uploads/2025/12/One-piece.jpg
ORGANIZER;CN="The Uncommon Shop GmbH":MAILTO:info@theuncommonshop.ch
END:VEVENT
BEGIN:VEVENT
DTSTART;TZID=Europe/Zurich:20300808T190000
DTEND;TZID=Europe/Zurich:20300808T210000
DTSTAMP:20260420T041023
CREATED:20260416T065956Z
LAST-MODIFIED:20260416T065956Z
UID:10010817-1912446000-1912453200@theuncommonshop.ch
SUMMARY:One Piece Turnier Schaffhausen
DESCRIPTION:19:00-21:00 (Open End)
URL:https://theuncommonshop.ch/fr/event/one-piece-turnier-schaffhausen/2030-08-08/
LOCATION:The Uncommon Shop Schaffhausen\, Beckenstube 2\, Schaffhausen\, 8200\, Switzerland
CATEGORIES:Tournois
ATTACH;FMTTYPE=image/jpeg:https://theuncommonshop.ch/wp-content/uploads/2025/12/One-piece.jpg
ORGANIZER;CN="The Uncommon Shop GmbH":MAILTO:info@theuncommonshop.ch
END:VEVENT
BEGIN:VEVENT
DTSTART;TZID=Europe/Zurich:20300809T170000
DTEND;TZID=Europe/Zurich:20300809T230000
DTSTAMP:20260420T041023
CREATED:20260319T110738Z
LAST-MODIFIED:20260325T125430Z
UID:10007144-1912525200-1912546800@theuncommonshop.ch
SUMMARY:Friday Night Magic
DESCRIPTION:Chaque vendredi\, c’est la Commander Night dans les magasins Uncommon de Romanshorn et Schaffhouse. Passez nous voir !
URL:https://theuncommonshop.ch/fr/event/friday-night-magic-4/2030-08-09/
LOCATION:The Uncommon Shop Romanshorn & Schaffhausen\, Bahnhofstrasse 16 / Beckenstube 2\, Romanshorn / Schaffhausen\, 8590 / 8200
CATEGORIES:Tournois
ATTACH;FMTTYPE=image/jpeg:https://theuncommonshop.ch/wp-content/uploads/2025/12/Kalender-Anzeige-1.jpg
ORGANIZER;CN="The Uncommon Shop GmbH":MAILTO:info@theuncommonshop.ch
END:VEVENT
BEGIN:VEVENT
DTSTART;TZID=Europe/Zurich:20300809T180000
DTEND;TZID=Europe/Zurich:20300809T210000
DTSTAMP:20260420T041023
CREATED:20260330T143048Z
LAST-MODIFIED:20260330T143112Z
UID:10009399-1912528800-1912539600@theuncommonshop.ch
SUMMARY:Dragonball TCG Tournament Event
DESCRIPTION:Préparer Bandai TCG Plus pour la connexion
URL:https://theuncommonshop.ch/fr/event/dragonball-tcg-tournament-event/2030-08-09/
CATEGORIES:Tournois
ATTACH;FMTTYPE=image/png:https://theuncommonshop.ch/wp-content/uploads/2026/03/9.png
END:VEVENT
BEGIN:VEVENT
DTSTART;TZID=Europe/Zurich:20300809T190000
DTEND;TZID=Europe/Zurich:20300809T223000
DTSTAMP:20260420T041023
CREATED:20260319T110115Z
LAST-MODIFIED:20260325T125430Z
UID:10006357-1912532400-1912545000@theuncommonshop.ch
SUMMARY:Livestream Twitch
DESCRIPTION:
URL:https://theuncommonshop.ch/fr/event/livestream-twitch-4/2030-08-09/
CATEGORIES:Flux en direct
ATTACH;FMTTYPE=image/jpeg:https://theuncommonshop.ch/wp-content/uploads/2026/01/5.jpg
ORGANIZER;CN="The Uncommon Shop GmbH":MAILTO:info@theuncommonshop.ch
END:VEVENT
BEGIN:VEVENT
DTSTART;TZID=Europe/Zurich:20300810T124500
DTEND;TZID=Europe/Zurich:20300810T180000
DTSTAMP:20260420T041023
CREATED:20260319T110424Z
LAST-MODIFIED:20260325T125430Z
UID:10006620-1912596300-1912615200@theuncommonshop.ch
SUMMARY:Yu-Gi-Oh ! Locaux
DESCRIPTION:-Propre deck -Konami ID -PORTANT !!!!! Chaque joueur reçoit à l’entrée : 2x boosters des derniers sets 1x OTS Par participant\, 2x boosters des derniers sets de base sont ajoutés à la cagnotte qui sera ensuite répartie entre les 3 premières places. A partir de 10 joueurs\, un présentoir est ajouté à la cagnotte et pour chaque joueur supplémentaire\, deux boosters supplémentaires sont ajoutés à la cagnotte. Distribution des prix
URL:https://theuncommonshop.ch/fr/event/yu-gi-oh-locaux-2/2030-08-10/
LOCATION:The Uncommon Shop Romanshorn\, Bahnhofstrasse 16 / Alleestrasse 25\, Romanshorn\, 8590
CATEGORIES:Tournois
ATTACH;FMTTYPE=image/jpeg:https://theuncommonshop.ch/wp-content/uploads/2025/12/3.jpg
ORGANIZER;CN="The Uncommon Shop GmbH":MAILTO:info@theuncommonshop.ch
END:VEVENT
BEGIN:VEVENT
DTSTART;TZID=Europe/Zurich:20300810T130000
DTEND;TZID=Europe/Zurich:20300810T180000
DTSTAMP:20260420T041023
CREATED:20251218T095011Z
LAST-MODIFIED:20260416T070758Z
UID:10005444-1912597200-1912615200@theuncommonshop.ch
SUMMARY:Tournoi One Piece
DESCRIPTION:\nVous trouverez toutes les informations utiles dans notre groupe WhatsApp One Piece : \nRomanshorn: 13:00 – 18:00 (Open End) https://chat.whatsapp.com/KSo3Q4YmJlU5FXSZtvpThG \nSchaffhausen: 13:30 – 17:00 \n\n \n\n  
URL:https://theuncommonshop.ch/fr/event/tournoi-one-piece/2030-08-10/
LOCATION:The Uncommon Shop Romanshorn\, Bahnhofstrasse 16 / Alleestrasse 25\, Romanshorn\, 8590
CATEGORIES:Tournois
ATTACH;FMTTYPE=image/jpeg:https://theuncommonshop.ch/wp-content/uploads/2025/12/One-piece.jpg
ORGANIZER;CN="The Uncommon Shop GmbH":MAILTO:info@theuncommonshop.ch
END:VEVENT
BEGIN:VEVENT
DTSTART;TZID=Europe/Zurich:20300815T190000
DTEND;TZID=Europe/Zurich:20300815T210000
DTSTAMP:20260420T041023
CREATED:20260416T065956Z
LAST-MODIFIED:20260416T065956Z
UID:10010818-1913050800-1913058000@theuncommonshop.ch
SUMMARY:One Piece Turnier Schaffhausen
DESCRIPTION:19:00-21:00 (Open End)
URL:https://theuncommonshop.ch/fr/event/one-piece-turnier-schaffhausen/2030-08-15/
LOCATION:The Uncommon Shop Schaffhausen\, Beckenstube 2\, Schaffhausen\, 8200\, Switzerland
CATEGORIES:Tournois
ATTACH;FMTTYPE=image/jpeg:https://theuncommonshop.ch/wp-content/uploads/2025/12/One-piece.jpg
ORGANIZER;CN="The Uncommon Shop GmbH":MAILTO:info@theuncommonshop.ch
END:VEVENT
BEGIN:VEVENT
DTSTART;TZID=Europe/Zurich:20300816T170000
DTEND;TZID=Europe/Zurich:20300816T230000
DTSTAMP:20260420T041023
CREATED:20260319T110738Z
LAST-MODIFIED:20260325T125430Z
UID:10007145-1913130000-1913151600@theuncommonshop.ch
SUMMARY:Friday Night Magic
DESCRIPTION:Chaque vendredi\, c’est la Commander Night dans les magasins Uncommon de Romanshorn et Schaffhouse. Passez nous voir !
URL:https://theuncommonshop.ch/fr/event/friday-night-magic-4/2030-08-16/
LOCATION:The Uncommon Shop Romanshorn & Schaffhausen\, Bahnhofstrasse 16 / Beckenstube 2\, Romanshorn / Schaffhausen\, 8590 / 8200
CATEGORIES:Tournois
ATTACH;FMTTYPE=image/jpeg:https://theuncommonshop.ch/wp-content/uploads/2025/12/Kalender-Anzeige-1.jpg
ORGANIZER;CN="The Uncommon Shop GmbH":MAILTO:info@theuncommonshop.ch
END:VEVENT
BEGIN:VEVENT
DTSTART;TZID=Europe/Zurich:20300816T180000
DTEND;TZID=Europe/Zurich:20300816T210000
DTSTAMP:20260420T041023
CREATED:20260330T143048Z
LAST-MODIFIED:20260330T143112Z
UID:10009400-1913133600-1913144400@theuncommonshop.ch
SUMMARY:Dragonball TCG Tournament Event
DESCRIPTION:Préparer Bandai TCG Plus pour la connexion
URL:https://theuncommonshop.ch/fr/event/dragonball-tcg-tournament-event/2030-08-16/
CATEGORIES:Tournois
ATTACH;FMTTYPE=image/png:https://theuncommonshop.ch/wp-content/uploads/2026/03/9.png
END:VEVENT
BEGIN:VEVENT
DTSTART;TZID=Europe/Zurich:20300816T190000
DTEND;TZID=Europe/Zurich:20300816T223000
DTSTAMP:20260420T041023
CREATED:20260319T110115Z
LAST-MODIFIED:20260325T125430Z
UID:10006358-1913137200-1913149800@theuncommonshop.ch
SUMMARY:Livestream Twitch
DESCRIPTION:
URL:https://theuncommonshop.ch/fr/event/livestream-twitch-4/2030-08-16/
CATEGORIES:Flux en direct
ATTACH;FMTTYPE=image/jpeg:https://theuncommonshop.ch/wp-content/uploads/2026/01/5.jpg
ORGANIZER;CN="The Uncommon Shop GmbH":MAILTO:info@theuncommonshop.ch
END:VEVENT
BEGIN:VEVENT
DTSTART;TZID=Europe/Zurich:20300817T124500
DTEND;TZID=Europe/Zurich:20300817T180000
DTSTAMP:20260420T041023
CREATED:20260319T110424Z
LAST-MODIFIED:20260325T125430Z
UID:10006621-1913201100-1913220000@theuncommonshop.ch
SUMMARY:Yu-Gi-Oh ! Locaux
DESCRIPTION:-Propre deck -Konami ID -PORTANT !!!!! Chaque joueur reçoit à l’entrée : 2x boosters des derniers sets 1x OTS Par participant\, 2x boosters des derniers sets de base sont ajoutés à la cagnotte qui sera ensuite répartie entre les 3 premières places. A partir de 10 joueurs\, un présentoir est ajouté à la cagnotte et pour chaque joueur supplémentaire\, deux boosters supplémentaires sont ajoutés à la cagnotte. Distribution des prix
URL:https://theuncommonshop.ch/fr/event/yu-gi-oh-locaux-2/2030-08-17/
LOCATION:The Uncommon Shop Romanshorn\, Bahnhofstrasse 16 / Alleestrasse 25\, Romanshorn\, 8590
CATEGORIES:Tournois
ATTACH;FMTTYPE=image/jpeg:https://theuncommonshop.ch/wp-content/uploads/2025/12/3.jpg
ORGANIZER;CN="The Uncommon Shop GmbH":MAILTO:info@theuncommonshop.ch
END:VEVENT
BEGIN:VEVENT
DTSTART;TZID=Europe/Zurich:20300817T130000
DTEND;TZID=Europe/Zurich:20300817T180000
DTSTAMP:20260420T041023
CREATED:20251218T095011Z
LAST-MODIFIED:20260416T070758Z
UID:10005445-1913202000-1913220000@theuncommonshop.ch
SUMMARY:Tournoi One Piece
DESCRIPTION:\nVous trouverez toutes les informations utiles dans notre groupe WhatsApp One Piece : \nRomanshorn: 13:00 – 18:00 (Open End) https://chat.whatsapp.com/KSo3Q4YmJlU5FXSZtvpThG \nSchaffhausen: 13:30 – 17:00 \n\n \n\n  
URL:https://theuncommonshop.ch/fr/event/tournoi-one-piece/2030-08-17/
LOCATION:The Uncommon Shop Romanshorn\, Bahnhofstrasse 16 / Alleestrasse 25\, Romanshorn\, 8590
CATEGORIES:Tournois
ATTACH;FMTTYPE=image/jpeg:https://theuncommonshop.ch/wp-content/uploads/2025/12/One-piece.jpg
ORGANIZER;CN="The Uncommon Shop GmbH":MAILTO:info@theuncommonshop.ch
END:VEVENT
BEGIN:VEVENT
DTSTART;TZID=Europe/Zurich:20300822T190000
DTEND;TZID=Europe/Zurich:20300822T210000
DTSTAMP:20260420T041023
CREATED:20260416T065956Z
LAST-MODIFIED:20260416T065956Z
UID:10010819-1913655600-1913662800@theuncommonshop.ch
SUMMARY:One Piece Turnier Schaffhausen
DESCRIPTION:19:00-21:00 (Open End)
URL:https://theuncommonshop.ch/fr/event/one-piece-turnier-schaffhausen/2030-08-22/
LOCATION:The Uncommon Shop Schaffhausen\, Beckenstube 2\, Schaffhausen\, 8200\, Switzerland
CATEGORIES:Tournois
ATTACH;FMTTYPE=image/jpeg:https://theuncommonshop.ch/wp-content/uploads/2025/12/One-piece.jpg
ORGANIZER;CN="The Uncommon Shop GmbH":MAILTO:info@theuncommonshop.ch
END:VEVENT
BEGIN:VEVENT
DTSTART;TZID=Europe/Zurich:20300823T170000
DTEND;TZID=Europe/Zurich:20300823T230000
DTSTAMP:20260420T041023
CREATED:20260319T110738Z
LAST-MODIFIED:20260325T125430Z
UID:10007146-1913734800-1913756400@theuncommonshop.ch
SUMMARY:Friday Night Magic
DESCRIPTION:Chaque vendredi\, c’est la Commander Night dans les magasins Uncommon de Romanshorn et Schaffhouse. Passez nous voir !
URL:https://theuncommonshop.ch/fr/event/friday-night-magic-4/2030-08-23/
LOCATION:The Uncommon Shop Romanshorn & Schaffhausen\, Bahnhofstrasse 16 / Beckenstube 2\, Romanshorn / Schaffhausen\, 8590 / 8200
CATEGORIES:Tournois
ATTACH;FMTTYPE=image/jpeg:https://theuncommonshop.ch/wp-content/uploads/2025/12/Kalender-Anzeige-1.jpg
ORGANIZER;CN="The Uncommon Shop GmbH":MAILTO:info@theuncommonshop.ch
END:VEVENT
BEGIN:VEVENT
DTSTART;TZID=Europe/Zurich:20300823T180000
DTEND;TZID=Europe/Zurich:20300823T210000
DTSTAMP:20260420T041023
CREATED:20260330T143048Z
LAST-MODIFIED:20260330T143112Z
UID:10009401-1913738400-1913749200@theuncommonshop.ch
SUMMARY:Dragonball TCG Tournament Event
DESCRIPTION:Préparer Bandai TCG Plus pour la connexion
URL:https://theuncommonshop.ch/fr/event/dragonball-tcg-tournament-event/2030-08-23/
CATEGORIES:Tournois
ATTACH;FMTTYPE=image/png:https://theuncommonshop.ch/wp-content/uploads/2026/03/9.png
END:VEVENT
BEGIN:VEVENT
DTSTART;TZID=Europe/Zurich:20300823T190000
DTEND;TZID=Europe/Zurich:20300823T223000
DTSTAMP:20260420T041023
CREATED:20260319T110115Z
LAST-MODIFIED:20260325T125430Z
UID:10006359-1913742000-1913754600@theuncommonshop.ch
SUMMARY:Livestream Twitch
DESCRIPTION:
URL:https://theuncommonshop.ch/fr/event/livestream-twitch-4/2030-08-23/
CATEGORIES:Flux en direct
ATTACH;FMTTYPE=image/jpeg:https://theuncommonshop.ch/wp-content/uploads/2026/01/5.jpg
ORGANIZER;CN="The Uncommon Shop GmbH":MAILTO:info@theuncommonshop.ch
END:VEVENT
BEGIN:VEVENT
DTSTART;TZID=Europe/Zurich:20300824T123000
DTEND;TZID=Europe/Zurich:20300824T170000
DTSTAMP:20260420T041023
CREATED:20260319T110851Z
LAST-MODIFIED:20260325T125429Z
UID:10006057-1913805000-1913821200@theuncommonshop.ch
SUMMARY:Pokémon Rencontre & Échange
DESCRIPTION:Le très populaire Pokémon Meeting & Trade a lieu une fois par mois. Rencontrez\, échangez\, jouez et amusez-vous ! Rejoignez notre communauté Whatsapp et participez à la communauté Uncommon Shop !   \n\nhttps://chat.whatsapp.com/C6vflHrPJl80xKxExj3Wy6
URL:https://theuncommonshop.ch/fr/event/pokemon-rencontre-echange-2/2030-08-24/
LOCATION:The Uncommon Shop Romanshorn\, Bahnhofstrasse 16 / Alleestrasse 25\, Romanshorn\, 8590
CATEGORIES:Tournois
ATTACH;FMTTYPE=image/jpeg:https://theuncommonshop.ch/wp-content/uploads/2025/12/4.jpg
END:VEVENT
BEGIN:VEVENT
DTSTART;TZID=Europe/Zurich:20300824T124500
DTEND;TZID=Europe/Zurich:20300824T180000
DTSTAMP:20260420T041023
CREATED:20260319T110424Z
LAST-MODIFIED:20260325T125430Z
UID:10006622-1913805900-1913824800@theuncommonshop.ch
SUMMARY:Yu-Gi-Oh ! Locaux
DESCRIPTION:-Propre deck -Konami ID -PORTANT !!!!! Chaque joueur reçoit à l’entrée : 2x boosters des derniers sets 1x OTS Par participant\, 2x boosters des derniers sets de base sont ajoutés à la cagnotte qui sera ensuite répartie entre les 3 premières places. A partir de 10 joueurs\, un présentoir est ajouté à la cagnotte et pour chaque joueur supplémentaire\, deux boosters supplémentaires sont ajoutés à la cagnotte. Distribution des prix
URL:https://theuncommonshop.ch/fr/event/yu-gi-oh-locaux-2/2030-08-24/
LOCATION:The Uncommon Shop Romanshorn\, Bahnhofstrasse 16 / Alleestrasse 25\, Romanshorn\, 8590
CATEGORIES:Tournois
ATTACH;FMTTYPE=image/jpeg:https://theuncommonshop.ch/wp-content/uploads/2025/12/3.jpg
ORGANIZER;CN="The Uncommon Shop GmbH":MAILTO:info@theuncommonshop.ch
END:VEVENT
BEGIN:VEVENT
DTSTART;TZID=Europe/Zurich:20300824T130000
DTEND;TZID=Europe/Zurich:20300824T180000
DTSTAMP:20260420T041023
CREATED:20251218T095011Z
LAST-MODIFIED:20260416T070758Z
UID:10005446-1913806800-1913824800@theuncommonshop.ch
SUMMARY:Tournoi One Piece
DESCRIPTION:\nVous trouverez toutes les informations utiles dans notre groupe WhatsApp One Piece : \nRomanshorn: 13:00 – 18:00 (Open End) https://chat.whatsapp.com/KSo3Q4YmJlU5FXSZtvpThG \nSchaffhausen: 13:30 – 17:00 \n\n \n\n  
URL:https://theuncommonshop.ch/fr/event/tournoi-one-piece/2030-08-24/
LOCATION:The Uncommon Shop Romanshorn\, Bahnhofstrasse 16 / Alleestrasse 25\, Romanshorn\, 8590
CATEGORIES:Tournois
ATTACH;FMTTYPE=image/jpeg:https://theuncommonshop.ch/wp-content/uploads/2025/12/One-piece.jpg
ORGANIZER;CN="The Uncommon Shop GmbH":MAILTO:info@theuncommonshop.ch
END:VEVENT
BEGIN:VEVENT
DTSTART;TZID=Europe/Zurich:20300829T190000
DTEND;TZID=Europe/Zurich:20300829T210000
DTSTAMP:20260420T041023
CREATED:20260416T065956Z
LAST-MODIFIED:20260416T065956Z
UID:10010820-1914260400-1914267600@theuncommonshop.ch
SUMMARY:One Piece Turnier Schaffhausen
DESCRIPTION:19:00-21:00 (Open End)
URL:https://theuncommonshop.ch/fr/event/one-piece-turnier-schaffhausen/2030-08-29/
LOCATION:The Uncommon Shop Schaffhausen\, Beckenstube 2\, Schaffhausen\, 8200\, Switzerland
CATEGORIES:Tournois
ATTACH;FMTTYPE=image/jpeg:https://theuncommonshop.ch/wp-content/uploads/2025/12/One-piece.jpg
ORGANIZER;CN="The Uncommon Shop GmbH":MAILTO:info@theuncommonshop.ch
END:VEVENT
BEGIN:VEVENT
DTSTART;TZID=Europe/Zurich:20300830T170000
DTEND;TZID=Europe/Zurich:20300830T230000
DTSTAMP:20260420T041023
CREATED:20260319T110738Z
LAST-MODIFIED:20260325T125430Z
UID:10007147-1914339600-1914361200@theuncommonshop.ch
SUMMARY:Friday Night Magic
DESCRIPTION:Chaque vendredi\, c’est la Commander Night dans les magasins Uncommon de Romanshorn et Schaffhouse. Passez nous voir !
URL:https://theuncommonshop.ch/fr/event/friday-night-magic-4/2030-08-30/
LOCATION:The Uncommon Shop Romanshorn & Schaffhausen\, Bahnhofstrasse 16 / Beckenstube 2\, Romanshorn / Schaffhausen\, 8590 / 8200
CATEGORIES:Tournois
ATTACH;FMTTYPE=image/jpeg:https://theuncommonshop.ch/wp-content/uploads/2025/12/Kalender-Anzeige-1.jpg
ORGANIZER;CN="The Uncommon Shop GmbH":MAILTO:info@theuncommonshop.ch
END:VEVENT
BEGIN:VEVENT
DTSTART;TZID=Europe/Zurich:20300830T180000
DTEND;TZID=Europe/Zurich:20300830T210000
DTSTAMP:20260420T041023
CREATED:20260330T143048Z
LAST-MODIFIED:20260330T143112Z
UID:10009402-1914343200-1914354000@theuncommonshop.ch
SUMMARY:Dragonball TCG Tournament Event
DESCRIPTION:Préparer Bandai TCG Plus pour la connexion
URL:https://theuncommonshop.ch/fr/event/dragonball-tcg-tournament-event/2030-08-30/
CATEGORIES:Tournois
ATTACH;FMTTYPE=image/png:https://theuncommonshop.ch/wp-content/uploads/2026/03/9.png
END:VEVENT
BEGIN:VEVENT
DTSTART;TZID=Europe/Zurich:20300830T190000
DTEND;TZID=Europe/Zurich:20300830T223000
DTSTAMP:20260420T041023
CREATED:20260319T110115Z
LAST-MODIFIED:20260325T125430Z
UID:10006360-1914346800-1914359400@theuncommonshop.ch
SUMMARY:Livestream Twitch
DESCRIPTION:
URL:https://theuncommonshop.ch/fr/event/livestream-twitch-4/2030-08-30/
CATEGORIES:Flux en direct
ATTACH;FMTTYPE=image/jpeg:https://theuncommonshop.ch/wp-content/uploads/2026/01/5.jpg
ORGANIZER;CN="The Uncommon Shop GmbH":MAILTO:info@theuncommonshop.ch
END:VEVENT
BEGIN:VEVENT
DTSTART;TZID=Europe/Zurich:20300831T124500
DTEND;TZID=Europe/Zurich:20300831T180000
DTSTAMP:20260420T041023
CREATED:20260319T110424Z
LAST-MODIFIED:20260325T125430Z
UID:10006623-1914410700-1914429600@theuncommonshop.ch
SUMMARY:Yu-Gi-Oh ! Locaux
DESCRIPTION:-Propre deck -Konami ID -PORTANT !!!!! Chaque joueur reçoit à l’entrée : 2x boosters des derniers sets 1x OTS Par participant\, 2x boosters des derniers sets de base sont ajoutés à la cagnotte qui sera ensuite répartie entre les 3 premières places. A partir de 10 joueurs\, un présentoir est ajouté à la cagnotte et pour chaque joueur supplémentaire\, deux boosters supplémentaires sont ajoutés à la cagnotte. Distribution des prix
URL:https://theuncommonshop.ch/fr/event/yu-gi-oh-locaux-2/2030-08-31/
LOCATION:The Uncommon Shop Romanshorn\, Bahnhofstrasse 16 / Alleestrasse 25\, Romanshorn\, 8590
CATEGORIES:Tournois
ATTACH;FMTTYPE=image/jpeg:https://theuncommonshop.ch/wp-content/uploads/2025/12/3.jpg
ORGANIZER;CN="The Uncommon Shop GmbH":MAILTO:info@theuncommonshop.ch
END:VEVENT
BEGIN:VEVENT
DTSTART;TZID=Europe/Zurich:20300831T130000
DTEND;TZID=Europe/Zurich:20300831T180000
DTSTAMP:20260420T041023
CREATED:20251218T095011Z
LAST-MODIFIED:20260416T070758Z
UID:10005447-1914411600-1914429600@theuncommonshop.ch
SUMMARY:Tournoi One Piece
DESCRIPTION:\nVous trouverez toutes les informations utiles dans notre groupe WhatsApp One Piece : \nRomanshorn: 13:00 – 18:00 (Open End) https://chat.whatsapp.com/KSo3Q4YmJlU5FXSZtvpThG \nSchaffhausen: 13:30 – 17:00 \n\n \n\n  
URL:https://theuncommonshop.ch/fr/event/tournoi-one-piece/2030-08-31/
LOCATION:The Uncommon Shop Romanshorn\, Bahnhofstrasse 16 / Alleestrasse 25\, Romanshorn\, 8590
CATEGORIES:Tournois
ATTACH;FMTTYPE=image/jpeg:https://theuncommonshop.ch/wp-content/uploads/2025/12/One-piece.jpg
ORGANIZER;CN="The Uncommon Shop GmbH":MAILTO:info@theuncommonshop.ch
END:VEVENT
BEGIN:VEVENT
DTSTART;TZID=Europe/Zurich:20300905T190000
DTEND;TZID=Europe/Zurich:20300905T210000
DTSTAMP:20260420T041023
CREATED:20260416T065956Z
LAST-MODIFIED:20260416T065956Z
UID:10010821-1914865200-1914872400@theuncommonshop.ch
SUMMARY:One Piece Turnier Schaffhausen
DESCRIPTION:19:00-21:00 (Open End)
URL:https://theuncommonshop.ch/fr/event/one-piece-turnier-schaffhausen/2030-09-05/
LOCATION:The Uncommon Shop Schaffhausen\, Beckenstube 2\, Schaffhausen\, 8200\, Switzerland
CATEGORIES:Tournois
ATTACH;FMTTYPE=image/jpeg:https://theuncommonshop.ch/wp-content/uploads/2025/12/One-piece.jpg
ORGANIZER;CN="The Uncommon Shop GmbH":MAILTO:info@theuncommonshop.ch
END:VEVENT
BEGIN:VEVENT
DTSTART;TZID=Europe/Zurich:20300906T170000
DTEND;TZID=Europe/Zurich:20300906T230000
DTSTAMP:20260420T041023
CREATED:20260319T110738Z
LAST-MODIFIED:20260325T125430Z
UID:10007148-1914944400-1914966000@theuncommonshop.ch
SUMMARY:Friday Night Magic
DESCRIPTION:Chaque vendredi\, c’est la Commander Night dans les magasins Uncommon de Romanshorn et Schaffhouse. Passez nous voir !
URL:https://theuncommonshop.ch/fr/event/friday-night-magic-4/2030-09-06/
LOCATION:The Uncommon Shop Romanshorn & Schaffhausen\, Bahnhofstrasse 16 / Beckenstube 2\, Romanshorn / Schaffhausen\, 8590 / 8200
CATEGORIES:Tournois
ATTACH;FMTTYPE=image/jpeg:https://theuncommonshop.ch/wp-content/uploads/2025/12/Kalender-Anzeige-1.jpg
ORGANIZER;CN="The Uncommon Shop GmbH":MAILTO:info@theuncommonshop.ch
END:VEVENT
BEGIN:VEVENT
DTSTART;TZID=Europe/Zurich:20300906T180000
DTEND;TZID=Europe/Zurich:20300906T210000
DTSTAMP:20260420T041023
CREATED:20260330T143048Z
LAST-MODIFIED:20260330T143112Z
UID:10009403-1914948000-1914958800@theuncommonshop.ch
SUMMARY:Dragonball TCG Tournament Event
DESCRIPTION:Préparer Bandai TCG Plus pour la connexion
URL:https://theuncommonshop.ch/fr/event/dragonball-tcg-tournament-event/2030-09-06/
CATEGORIES:Tournois
ATTACH;FMTTYPE=image/png:https://theuncommonshop.ch/wp-content/uploads/2026/03/9.png
END:VEVENT
BEGIN:VEVENT
DTSTART;TZID=Europe/Zurich:20300906T190000
DTEND;TZID=Europe/Zurich:20300906T223000
DTSTAMP:20260420T041023
CREATED:20260319T110115Z
LAST-MODIFIED:20260325T125430Z
UID:10006361-1914951600-1914964200@theuncommonshop.ch
SUMMARY:Livestream Twitch
DESCRIPTION:
URL:https://theuncommonshop.ch/fr/event/livestream-twitch-4/2030-09-06/
CATEGORIES:Flux en direct
ATTACH;FMTTYPE=image/jpeg:https://theuncommonshop.ch/wp-content/uploads/2026/01/5.jpg
ORGANIZER;CN="The Uncommon Shop GmbH":MAILTO:info@theuncommonshop.ch
END:VEVENT
END:VCALENDAR