BEGIN:VCALENDAR
VERSION:2.0
PRODID:-//Largest trading card shop in Switzerland - ECPv6.15.20//NONSGML v1.0//EN
CALSCALE:GREGORIAN
METHOD:PUBLISH
X-ORIGINAL-URL:https://theuncommonshop.ch/fr/
X-WR-CALDESC:Évènements pour Largest trading card shop in Switzerland
REFRESH-INTERVAL;VALUE=DURATION:PT1H
X-Robots-Tag:noindex
X-PUBLISHED-TTL:PT1H
BEGIN:VTIMEZONE
TZID:Europe/Zurich
BEGIN:DAYLIGHT
TZOFFSETFROM:+0100
TZOFFSETTO:+0200
TZNAME:CEST
DTSTART:20290325T010000
END:DAYLIGHT
BEGIN:STANDARD
TZOFFSETFROM:+0200
TZOFFSETTO:+0100
TZNAME:CET
DTSTART:20291028T010000
END:STANDARD
BEGIN:DAYLIGHT
TZOFFSETFROM:+0100
TZOFFSETTO:+0200
TZNAME:CEST
DTSTART:20300331T010000
END:DAYLIGHT
BEGIN:STANDARD
TZOFFSETFROM:+0200
TZOFFSETTO:+0100
TZNAME:CET
DTSTART:20301027T010000
END:STANDARD
BEGIN:DAYLIGHT
TZOFFSETFROM:+0100
TZOFFSETTO:+0200
TZNAME:CEST
DTSTART:20310330T010000
END:DAYLIGHT
BEGIN:STANDARD
TZOFFSETFROM:+0200
TZOFFSETTO:+0100
TZNAME:CET
DTSTART:20311026T010000
END:STANDARD
END:VTIMEZONE
BEGIN:VEVENT
DTSTART;TZID=Europe/Zurich:20300316T124500
DTEND;TZID=Europe/Zurich:20300316T180000
DTSTAMP:20260419T163653
CREATED:20260319T110424Z
LAST-MODIFIED:20260325T125430Z
UID:10006599-1899895500-1899914400@theuncommonshop.ch
SUMMARY:Yu-Gi-Oh ! Locaux
DESCRIPTION:-Propre deck -Konami ID -PORTANT !!!!! Chaque joueur reçoit à l’entrée : 2x boosters des derniers sets 1x OTS Par participant\, 2x boosters des derniers sets de base sont ajoutés à la cagnotte qui sera ensuite répartie entre les 3 premières places. A partir de 10 joueurs\, un présentoir est ajouté à la cagnotte et pour chaque joueur supplémentaire\, deux boosters supplémentaires sont ajoutés à la cagnotte. Distribution des prix
URL:https://theuncommonshop.ch/fr/event/yu-gi-oh-locaux-2/2030-03-16/
LOCATION:The Uncommon Shop Romanshorn\, Bahnhofstrasse 16 / Alleestrasse 25\, Romanshorn\, 8590
CATEGORIES:Tournois
ATTACH;FMTTYPE=image/jpeg:https://theuncommonshop.ch/wp-content/uploads/2025/12/3.jpg
ORGANIZER;CN="The Uncommon Shop GmbH":MAILTO:info@theuncommonshop.ch
END:VEVENT
BEGIN:VEVENT
DTSTART;TZID=Europe/Zurich:20300316T130000
DTEND;TZID=Europe/Zurich:20300316T180000
DTSTAMP:20260419T163653
CREATED:20251218T095011Z
LAST-MODIFIED:20260416T070758Z
UID:10005423-1899896400-1899914400@theuncommonshop.ch
SUMMARY:Tournoi One Piece
DESCRIPTION:\nVous trouverez toutes les informations utiles dans notre groupe WhatsApp One Piece : \nRomanshorn: 13:00 – 18:00 (Open End) https://chat.whatsapp.com/KSo3Q4YmJlU5FXSZtvpThG \nSchaffhausen: 13:30 – 17:00 \n\n \n\n  
URL:https://theuncommonshop.ch/fr/event/tournoi-one-piece/2030-03-16/
LOCATION:The Uncommon Shop Romanshorn\, Bahnhofstrasse 16 / Alleestrasse 25\, Romanshorn\, 8590
CATEGORIES:Tournois
ATTACH;FMTTYPE=image/jpeg:https://theuncommonshop.ch/wp-content/uploads/2025/12/One-piece.jpg
ORGANIZER;CN="The Uncommon Shop GmbH":MAILTO:info@theuncommonshop.ch
END:VEVENT
BEGIN:VEVENT
DTSTART;TZID=Europe/Zurich:20300321T190000
DTEND;TZID=Europe/Zurich:20300321T210000
DTSTAMP:20260419T163653
CREATED:20260416T065956Z
LAST-MODIFIED:20260416T065956Z
UID:10010797-1900350000-1900357200@theuncommonshop.ch
SUMMARY:One Piece Turnier Schaffhausen
DESCRIPTION:19:00-21:00 (Open End)
URL:https://theuncommonshop.ch/fr/event/one-piece-turnier-schaffhausen/2030-03-21/
LOCATION:The Uncommon Shop Schaffhausen\, Beckenstube 2\, Schaffhausen\, 8200\, Switzerland
CATEGORIES:Tournois
ATTACH;FMTTYPE=image/jpeg:https://theuncommonshop.ch/wp-content/uploads/2025/12/One-piece.jpg
ORGANIZER;CN="The Uncommon Shop GmbH":MAILTO:info@theuncommonshop.ch
END:VEVENT
BEGIN:VEVENT
DTSTART;TZID=Europe/Zurich:20300322T170000
DTEND;TZID=Europe/Zurich:20300322T230000
DTSTAMP:20260419T163653
CREATED:20260319T110738Z
LAST-MODIFIED:20260325T125430Z
UID:10007124-1900429200-1900450800@theuncommonshop.ch
SUMMARY:Friday Night Magic
DESCRIPTION:Chaque vendredi\, c’est la Commander Night dans les magasins Uncommon de Romanshorn et Schaffhouse. Passez nous voir !
URL:https://theuncommonshop.ch/fr/event/friday-night-magic-4/2030-03-22/
LOCATION:The Uncommon Shop Romanshorn & Schaffhausen\, Bahnhofstrasse 16 / Beckenstube 2\, Romanshorn / Schaffhausen\, 8590 / 8200
CATEGORIES:Tournois
ATTACH;FMTTYPE=image/jpeg:https://theuncommonshop.ch/wp-content/uploads/2025/12/Kalender-Anzeige-1.jpg
ORGANIZER;CN="The Uncommon Shop GmbH":MAILTO:info@theuncommonshop.ch
END:VEVENT
BEGIN:VEVENT
DTSTART;TZID=Europe/Zurich:20300322T180000
DTEND;TZID=Europe/Zurich:20300322T210000
DTSTAMP:20260419T163653
CREATED:20260330T143048Z
LAST-MODIFIED:20260330T143112Z
UID:10009379-1900432800-1900443600@theuncommonshop.ch
SUMMARY:Dragonball TCG Tournament Event
DESCRIPTION:Préparer Bandai TCG Plus pour la connexion
URL:https://theuncommonshop.ch/fr/event/dragonball-tcg-tournament-event/2030-03-22/
CATEGORIES:Tournois
ATTACH;FMTTYPE=image/png:https://theuncommonshop.ch/wp-content/uploads/2026/03/9.png
END:VEVENT
BEGIN:VEVENT
DTSTART;TZID=Europe/Zurich:20300322T190000
DTEND;TZID=Europe/Zurich:20300322T223000
DTSTAMP:20260419T163653
CREATED:20260319T110115Z
LAST-MODIFIED:20260325T125430Z
UID:10006337-1900436400-1900449000@theuncommonshop.ch
SUMMARY:Livestream Twitch
DESCRIPTION:
URL:https://theuncommonshop.ch/fr/event/livestream-twitch-4/2030-03-22/
CATEGORIES:Flux en direct
ATTACH;FMTTYPE=image/jpeg:https://theuncommonshop.ch/wp-content/uploads/2026/01/5.jpg
ORGANIZER;CN="The Uncommon Shop GmbH":MAILTO:info@theuncommonshop.ch
END:VEVENT
BEGIN:VEVENT
DTSTART;TZID=Europe/Zurich:20300323T123000
DTEND;TZID=Europe/Zurich:20300323T170000
DTSTAMP:20260419T163653
CREATED:20260319T110851Z
LAST-MODIFIED:20260325T125429Z
UID:10006052-1900499400-1900515600@theuncommonshop.ch
SUMMARY:Pokémon Rencontre & Échange
DESCRIPTION:Le très populaire Pokémon Meeting & Trade a lieu une fois par mois. Rencontrez\, échangez\, jouez et amusez-vous ! Rejoignez notre communauté Whatsapp et participez à la communauté Uncommon Shop !   \n\nhttps://chat.whatsapp.com/C6vflHrPJl80xKxExj3Wy6
URL:https://theuncommonshop.ch/fr/event/pokemon-rencontre-echange-2/2030-03-23/
LOCATION:The Uncommon Shop Romanshorn\, Bahnhofstrasse 16 / Alleestrasse 25\, Romanshorn\, 8590
CATEGORIES:Tournois
ATTACH;FMTTYPE=image/jpeg:https://theuncommonshop.ch/wp-content/uploads/2025/12/4.jpg
END:VEVENT
BEGIN:VEVENT
DTSTART;TZID=Europe/Zurich:20300323T124500
DTEND;TZID=Europe/Zurich:20300323T180000
DTSTAMP:20260419T163653
CREATED:20260319T110424Z
LAST-MODIFIED:20260325T125430Z
UID:10006600-1900500300-1900519200@theuncommonshop.ch
SUMMARY:Yu-Gi-Oh ! Locaux
DESCRIPTION:-Propre deck -Konami ID -PORTANT !!!!! Chaque joueur reçoit à l’entrée : 2x boosters des derniers sets 1x OTS Par participant\, 2x boosters des derniers sets de base sont ajoutés à la cagnotte qui sera ensuite répartie entre les 3 premières places. A partir de 10 joueurs\, un présentoir est ajouté à la cagnotte et pour chaque joueur supplémentaire\, deux boosters supplémentaires sont ajoutés à la cagnotte. Distribution des prix
URL:https://theuncommonshop.ch/fr/event/yu-gi-oh-locaux-2/2030-03-23/
LOCATION:The Uncommon Shop Romanshorn\, Bahnhofstrasse 16 / Alleestrasse 25\, Romanshorn\, 8590
CATEGORIES:Tournois
ATTACH;FMTTYPE=image/jpeg:https://theuncommonshop.ch/wp-content/uploads/2025/12/3.jpg
ORGANIZER;CN="The Uncommon Shop GmbH":MAILTO:info@theuncommonshop.ch
END:VEVENT
BEGIN:VEVENT
DTSTART;TZID=Europe/Zurich:20300323T130000
DTEND;TZID=Europe/Zurich:20300323T180000
DTSTAMP:20260419T163653
CREATED:20251218T095011Z
LAST-MODIFIED:20260416T070758Z
UID:10005424-1900501200-1900519200@theuncommonshop.ch
SUMMARY:Tournoi One Piece
DESCRIPTION:\nVous trouverez toutes les informations utiles dans notre groupe WhatsApp One Piece : \nRomanshorn: 13:00 – 18:00 (Open End) https://chat.whatsapp.com/KSo3Q4YmJlU5FXSZtvpThG \nSchaffhausen: 13:30 – 17:00 \n\n \n\n  
URL:https://theuncommonshop.ch/fr/event/tournoi-one-piece/2030-03-23/
LOCATION:The Uncommon Shop Romanshorn\, Bahnhofstrasse 16 / Alleestrasse 25\, Romanshorn\, 8590
CATEGORIES:Tournois
ATTACH;FMTTYPE=image/jpeg:https://theuncommonshop.ch/wp-content/uploads/2025/12/One-piece.jpg
ORGANIZER;CN="The Uncommon Shop GmbH":MAILTO:info@theuncommonshop.ch
END:VEVENT
BEGIN:VEVENT
DTSTART;TZID=Europe/Zurich:20300328T190000
DTEND;TZID=Europe/Zurich:20300328T210000
DTSTAMP:20260419T163653
CREATED:20260416T065956Z
LAST-MODIFIED:20260416T065956Z
UID:10010798-1900954800-1900962000@theuncommonshop.ch
SUMMARY:One Piece Turnier Schaffhausen
DESCRIPTION:19:00-21:00 (Open End)
URL:https://theuncommonshop.ch/fr/event/one-piece-turnier-schaffhausen/2030-03-28/
LOCATION:The Uncommon Shop Schaffhausen\, Beckenstube 2\, Schaffhausen\, 8200\, Switzerland
CATEGORIES:Tournois
ATTACH;FMTTYPE=image/jpeg:https://theuncommonshop.ch/wp-content/uploads/2025/12/One-piece.jpg
ORGANIZER;CN="The Uncommon Shop GmbH":MAILTO:info@theuncommonshop.ch
END:VEVENT
BEGIN:VEVENT
DTSTART;TZID=Europe/Zurich:20300329T170000
DTEND;TZID=Europe/Zurich:20300329T230000
DTSTAMP:20260419T163653
CREATED:20260319T110738Z
LAST-MODIFIED:20260325T125430Z
UID:10007125-1901034000-1901055600@theuncommonshop.ch
SUMMARY:Friday Night Magic
DESCRIPTION:Chaque vendredi\, c’est la Commander Night dans les magasins Uncommon de Romanshorn et Schaffhouse. Passez nous voir !
URL:https://theuncommonshop.ch/fr/event/friday-night-magic-4/2030-03-29/
LOCATION:The Uncommon Shop Romanshorn & Schaffhausen\, Bahnhofstrasse 16 / Beckenstube 2\, Romanshorn / Schaffhausen\, 8590 / 8200
CATEGORIES:Tournois
ATTACH;FMTTYPE=image/jpeg:https://theuncommonshop.ch/wp-content/uploads/2025/12/Kalender-Anzeige-1.jpg
ORGANIZER;CN="The Uncommon Shop GmbH":MAILTO:info@theuncommonshop.ch
END:VEVENT
BEGIN:VEVENT
DTSTART;TZID=Europe/Zurich:20300329T180000
DTEND;TZID=Europe/Zurich:20300329T210000
DTSTAMP:20260419T163653
CREATED:20260330T143048Z
LAST-MODIFIED:20260330T143112Z
UID:10009380-1901037600-1901048400@theuncommonshop.ch
SUMMARY:Dragonball TCG Tournament Event
DESCRIPTION:Préparer Bandai TCG Plus pour la connexion
URL:https://theuncommonshop.ch/fr/event/dragonball-tcg-tournament-event/2030-03-29/
CATEGORIES:Tournois
ATTACH;FMTTYPE=image/png:https://theuncommonshop.ch/wp-content/uploads/2026/03/9.png
END:VEVENT
BEGIN:VEVENT
DTSTART;TZID=Europe/Zurich:20300329T190000
DTEND;TZID=Europe/Zurich:20300329T223000
DTSTAMP:20260419T163653
CREATED:20260319T110115Z
LAST-MODIFIED:20260325T125430Z
UID:10006338-1901041200-1901053800@theuncommonshop.ch
SUMMARY:Livestream Twitch
DESCRIPTION:
URL:https://theuncommonshop.ch/fr/event/livestream-twitch-4/2030-03-29/
CATEGORIES:Flux en direct
ATTACH;FMTTYPE=image/jpeg:https://theuncommonshop.ch/wp-content/uploads/2026/01/5.jpg
ORGANIZER;CN="The Uncommon Shop GmbH":MAILTO:info@theuncommonshop.ch
END:VEVENT
BEGIN:VEVENT
DTSTART;TZID=Europe/Zurich:20300330T124500
DTEND;TZID=Europe/Zurich:20300330T180000
DTSTAMP:20260419T163653
CREATED:20260319T110424Z
LAST-MODIFIED:20260325T125430Z
UID:10006601-1901105100-1901124000@theuncommonshop.ch
SUMMARY:Yu-Gi-Oh ! Locaux
DESCRIPTION:-Propre deck -Konami ID -PORTANT !!!!! Chaque joueur reçoit à l’entrée : 2x boosters des derniers sets 1x OTS Par participant\, 2x boosters des derniers sets de base sont ajoutés à la cagnotte qui sera ensuite répartie entre les 3 premières places. A partir de 10 joueurs\, un présentoir est ajouté à la cagnotte et pour chaque joueur supplémentaire\, deux boosters supplémentaires sont ajoutés à la cagnotte. Distribution des prix
URL:https://theuncommonshop.ch/fr/event/yu-gi-oh-locaux-2/2030-03-30/
LOCATION:The Uncommon Shop Romanshorn\, Bahnhofstrasse 16 / Alleestrasse 25\, Romanshorn\, 8590
CATEGORIES:Tournois
ATTACH;FMTTYPE=image/jpeg:https://theuncommonshop.ch/wp-content/uploads/2025/12/3.jpg
ORGANIZER;CN="The Uncommon Shop GmbH":MAILTO:info@theuncommonshop.ch
END:VEVENT
BEGIN:VEVENT
DTSTART;TZID=Europe/Zurich:20300330T130000
DTEND;TZID=Europe/Zurich:20300330T180000
DTSTAMP:20260419T163653
CREATED:20251218T095011Z
LAST-MODIFIED:20260416T070758Z
UID:10005425-1901106000-1901124000@theuncommonshop.ch
SUMMARY:Tournoi One Piece
DESCRIPTION:\nVous trouverez toutes les informations utiles dans notre groupe WhatsApp One Piece : \nRomanshorn: 13:00 – 18:00 (Open End) https://chat.whatsapp.com/KSo3Q4YmJlU5FXSZtvpThG \nSchaffhausen: 13:30 – 17:00 \n\n \n\n  
URL:https://theuncommonshop.ch/fr/event/tournoi-one-piece/2030-03-30/
LOCATION:The Uncommon Shop Romanshorn\, Bahnhofstrasse 16 / Alleestrasse 25\, Romanshorn\, 8590
CATEGORIES:Tournois
ATTACH;FMTTYPE=image/jpeg:https://theuncommonshop.ch/wp-content/uploads/2025/12/One-piece.jpg
ORGANIZER;CN="The Uncommon Shop GmbH":MAILTO:info@theuncommonshop.ch
END:VEVENT
BEGIN:VEVENT
DTSTART;TZID=Europe/Zurich:20300404T190000
DTEND;TZID=Europe/Zurich:20300404T210000
DTSTAMP:20260419T163653
CREATED:20260416T065956Z
LAST-MODIFIED:20260416T065956Z
UID:10010799-1901559600-1901566800@theuncommonshop.ch
SUMMARY:One Piece Turnier Schaffhausen
DESCRIPTION:19:00-21:00 (Open End)
URL:https://theuncommonshop.ch/fr/event/one-piece-turnier-schaffhausen/2030-04-04/
LOCATION:The Uncommon Shop Schaffhausen\, Beckenstube 2\, Schaffhausen\, 8200\, Switzerland
CATEGORIES:Tournois
ATTACH;FMTTYPE=image/jpeg:https://theuncommonshop.ch/wp-content/uploads/2025/12/One-piece.jpg
ORGANIZER;CN="The Uncommon Shop GmbH":MAILTO:info@theuncommonshop.ch
END:VEVENT
BEGIN:VEVENT
DTSTART;TZID=Europe/Zurich:20300405T170000
DTEND;TZID=Europe/Zurich:20300405T230000
DTSTAMP:20260419T163653
CREATED:20260319T110738Z
LAST-MODIFIED:20260325T125430Z
UID:10007126-1901638800-1901660400@theuncommonshop.ch
SUMMARY:Friday Night Magic
DESCRIPTION:Chaque vendredi\, c’est la Commander Night dans les magasins Uncommon de Romanshorn et Schaffhouse. Passez nous voir !
URL:https://theuncommonshop.ch/fr/event/friday-night-magic-4/2030-04-05/
LOCATION:The Uncommon Shop Romanshorn & Schaffhausen\, Bahnhofstrasse 16 / Beckenstube 2\, Romanshorn / Schaffhausen\, 8590 / 8200
CATEGORIES:Tournois
ATTACH;FMTTYPE=image/jpeg:https://theuncommonshop.ch/wp-content/uploads/2025/12/Kalender-Anzeige-1.jpg
ORGANIZER;CN="The Uncommon Shop GmbH":MAILTO:info@theuncommonshop.ch
END:VEVENT
BEGIN:VEVENT
DTSTART;TZID=Europe/Zurich:20300405T180000
DTEND;TZID=Europe/Zurich:20300405T210000
DTSTAMP:20260419T163653
CREATED:20260330T143048Z
LAST-MODIFIED:20260330T143112Z
UID:10009381-1901642400-1901653200@theuncommonshop.ch
SUMMARY:Dragonball TCG Tournament Event
DESCRIPTION:Préparer Bandai TCG Plus pour la connexion
URL:https://theuncommonshop.ch/fr/event/dragonball-tcg-tournament-event/2030-04-05/
CATEGORIES:Tournois
ATTACH;FMTTYPE=image/png:https://theuncommonshop.ch/wp-content/uploads/2026/03/9.png
END:VEVENT
BEGIN:VEVENT
DTSTART;TZID=Europe/Zurich:20300405T190000
DTEND;TZID=Europe/Zurich:20300405T223000
DTSTAMP:20260419T163653
CREATED:20260319T110115Z
LAST-MODIFIED:20260325T125430Z
UID:10006339-1901646000-1901658600@theuncommonshop.ch
SUMMARY:Livestream Twitch
DESCRIPTION:
URL:https://theuncommonshop.ch/fr/event/livestream-twitch-4/2030-04-05/
CATEGORIES:Flux en direct
ATTACH;FMTTYPE=image/jpeg:https://theuncommonshop.ch/wp-content/uploads/2026/01/5.jpg
ORGANIZER;CN="The Uncommon Shop GmbH":MAILTO:info@theuncommonshop.ch
END:VEVENT
BEGIN:VEVENT
DTSTART;TZID=Europe/Zurich:20300406T124500
DTEND;TZID=Europe/Zurich:20300406T180000
DTSTAMP:20260419T163653
CREATED:20260319T110424Z
LAST-MODIFIED:20260325T125430Z
UID:10006602-1901709900-1901728800@theuncommonshop.ch
SUMMARY:Yu-Gi-Oh ! Locaux
DESCRIPTION:-Propre deck -Konami ID -PORTANT !!!!! Chaque joueur reçoit à l’entrée : 2x boosters des derniers sets 1x OTS Par participant\, 2x boosters des derniers sets de base sont ajoutés à la cagnotte qui sera ensuite répartie entre les 3 premières places. A partir de 10 joueurs\, un présentoir est ajouté à la cagnotte et pour chaque joueur supplémentaire\, deux boosters supplémentaires sont ajoutés à la cagnotte. Distribution des prix
URL:https://theuncommonshop.ch/fr/event/yu-gi-oh-locaux-2/2030-04-06/
LOCATION:The Uncommon Shop Romanshorn\, Bahnhofstrasse 16 / Alleestrasse 25\, Romanshorn\, 8590
CATEGORIES:Tournois
ATTACH;FMTTYPE=image/jpeg:https://theuncommonshop.ch/wp-content/uploads/2025/12/3.jpg
ORGANIZER;CN="The Uncommon Shop GmbH":MAILTO:info@theuncommonshop.ch
END:VEVENT
BEGIN:VEVENT
DTSTART;TZID=Europe/Zurich:20300406T130000
DTEND;TZID=Europe/Zurich:20300406T180000
DTSTAMP:20260419T163653
CREATED:20251218T095011Z
LAST-MODIFIED:20260416T070758Z
UID:10005426-1901710800-1901728800@theuncommonshop.ch
SUMMARY:Tournoi One Piece
DESCRIPTION:\nVous trouverez toutes les informations utiles dans notre groupe WhatsApp One Piece : \nRomanshorn: 13:00 – 18:00 (Open End) https://chat.whatsapp.com/KSo3Q4YmJlU5FXSZtvpThG \nSchaffhausen: 13:30 – 17:00 \n\n \n\n  
URL:https://theuncommonshop.ch/fr/event/tournoi-one-piece/2030-04-06/
LOCATION:The Uncommon Shop Romanshorn\, Bahnhofstrasse 16 / Alleestrasse 25\, Romanshorn\, 8590
CATEGORIES:Tournois
ATTACH;FMTTYPE=image/jpeg:https://theuncommonshop.ch/wp-content/uploads/2025/12/One-piece.jpg
ORGANIZER;CN="The Uncommon Shop GmbH":MAILTO:info@theuncommonshop.ch
END:VEVENT
BEGIN:VEVENT
DTSTART;TZID=Europe/Zurich:20300411T190000
DTEND;TZID=Europe/Zurich:20300411T210000
DTSTAMP:20260419T163653
CREATED:20260416T065956Z
LAST-MODIFIED:20260416T065956Z
UID:10010800-1902164400-1902171600@theuncommonshop.ch
SUMMARY:One Piece Turnier Schaffhausen
DESCRIPTION:19:00-21:00 (Open End)
URL:https://theuncommonshop.ch/fr/event/one-piece-turnier-schaffhausen/2030-04-11/
LOCATION:The Uncommon Shop Schaffhausen\, Beckenstube 2\, Schaffhausen\, 8200\, Switzerland
CATEGORIES:Tournois
ATTACH;FMTTYPE=image/jpeg:https://theuncommonshop.ch/wp-content/uploads/2025/12/One-piece.jpg
ORGANIZER;CN="The Uncommon Shop GmbH":MAILTO:info@theuncommonshop.ch
END:VEVENT
BEGIN:VEVENT
DTSTART;TZID=Europe/Zurich:20300412T170000
DTEND;TZID=Europe/Zurich:20300412T230000
DTSTAMP:20260419T163653
CREATED:20260319T110738Z
LAST-MODIFIED:20260325T125430Z
UID:10007127-1902243600-1902265200@theuncommonshop.ch
SUMMARY:Friday Night Magic
DESCRIPTION:Chaque vendredi\, c’est la Commander Night dans les magasins Uncommon de Romanshorn et Schaffhouse. Passez nous voir !
URL:https://theuncommonshop.ch/fr/event/friday-night-magic-4/2030-04-12/
LOCATION:The Uncommon Shop Romanshorn & Schaffhausen\, Bahnhofstrasse 16 / Beckenstube 2\, Romanshorn / Schaffhausen\, 8590 / 8200
CATEGORIES:Tournois
ATTACH;FMTTYPE=image/jpeg:https://theuncommonshop.ch/wp-content/uploads/2025/12/Kalender-Anzeige-1.jpg
ORGANIZER;CN="The Uncommon Shop GmbH":MAILTO:info@theuncommonshop.ch
END:VEVENT
BEGIN:VEVENT
DTSTART;TZID=Europe/Zurich:20300412T180000
DTEND;TZID=Europe/Zurich:20300412T210000
DTSTAMP:20260419T163653
CREATED:20260330T143048Z
LAST-MODIFIED:20260330T143112Z
UID:10009382-1902247200-1902258000@theuncommonshop.ch
SUMMARY:Dragonball TCG Tournament Event
DESCRIPTION:Préparer Bandai TCG Plus pour la connexion
URL:https://theuncommonshop.ch/fr/event/dragonball-tcg-tournament-event/2030-04-12/
CATEGORIES:Tournois
ATTACH;FMTTYPE=image/png:https://theuncommonshop.ch/wp-content/uploads/2026/03/9.png
END:VEVENT
BEGIN:VEVENT
DTSTART;TZID=Europe/Zurich:20300412T190000
DTEND;TZID=Europe/Zurich:20300412T223000
DTSTAMP:20260419T163653
CREATED:20260319T110115Z
LAST-MODIFIED:20260325T125430Z
UID:10006340-1902250800-1902263400@theuncommonshop.ch
SUMMARY:Livestream Twitch
DESCRIPTION:
URL:https://theuncommonshop.ch/fr/event/livestream-twitch-4/2030-04-12/
CATEGORIES:Flux en direct
ATTACH;FMTTYPE=image/jpeg:https://theuncommonshop.ch/wp-content/uploads/2026/01/5.jpg
ORGANIZER;CN="The Uncommon Shop GmbH":MAILTO:info@theuncommonshop.ch
END:VEVENT
BEGIN:VEVENT
DTSTART;TZID=Europe/Zurich:20300413T124500
DTEND;TZID=Europe/Zurich:20300413T180000
DTSTAMP:20260419T163653
CREATED:20260319T110424Z
LAST-MODIFIED:20260325T125430Z
UID:10006603-1902314700-1902333600@theuncommonshop.ch
SUMMARY:Yu-Gi-Oh ! Locaux
DESCRIPTION:-Propre deck -Konami ID -PORTANT !!!!! Chaque joueur reçoit à l’entrée : 2x boosters des derniers sets 1x OTS Par participant\, 2x boosters des derniers sets de base sont ajoutés à la cagnotte qui sera ensuite répartie entre les 3 premières places. A partir de 10 joueurs\, un présentoir est ajouté à la cagnotte et pour chaque joueur supplémentaire\, deux boosters supplémentaires sont ajoutés à la cagnotte. Distribution des prix
URL:https://theuncommonshop.ch/fr/event/yu-gi-oh-locaux-2/2030-04-13/
LOCATION:The Uncommon Shop Romanshorn\, Bahnhofstrasse 16 / Alleestrasse 25\, Romanshorn\, 8590
CATEGORIES:Tournois
ATTACH;FMTTYPE=image/jpeg:https://theuncommonshop.ch/wp-content/uploads/2025/12/3.jpg
ORGANIZER;CN="The Uncommon Shop GmbH":MAILTO:info@theuncommonshop.ch
END:VEVENT
BEGIN:VEVENT
DTSTART;TZID=Europe/Zurich:20300413T130000
DTEND;TZID=Europe/Zurich:20300413T180000
DTSTAMP:20260419T163653
CREATED:20251218T095011Z
LAST-MODIFIED:20260416T070758Z
UID:10005427-1902315600-1902333600@theuncommonshop.ch
SUMMARY:Tournoi One Piece
DESCRIPTION:\nVous trouverez toutes les informations utiles dans notre groupe WhatsApp One Piece : \nRomanshorn: 13:00 – 18:00 (Open End) https://chat.whatsapp.com/KSo3Q4YmJlU5FXSZtvpThG \nSchaffhausen: 13:30 – 17:00 \n\n \n\n  
URL:https://theuncommonshop.ch/fr/event/tournoi-one-piece/2030-04-13/
LOCATION:The Uncommon Shop Romanshorn\, Bahnhofstrasse 16 / Alleestrasse 25\, Romanshorn\, 8590
CATEGORIES:Tournois
ATTACH;FMTTYPE=image/jpeg:https://theuncommonshop.ch/wp-content/uploads/2025/12/One-piece.jpg
ORGANIZER;CN="The Uncommon Shop GmbH":MAILTO:info@theuncommonshop.ch
END:VEVENT
BEGIN:VEVENT
DTSTART;TZID=Europe/Zurich:20300418T190000
DTEND;TZID=Europe/Zurich:20300418T210000
DTSTAMP:20260419T163653
CREATED:20260416T065956Z
LAST-MODIFIED:20260416T065956Z
UID:10010801-1902769200-1902776400@theuncommonshop.ch
SUMMARY:One Piece Turnier Schaffhausen
DESCRIPTION:19:00-21:00 (Open End)
URL:https://theuncommonshop.ch/fr/event/one-piece-turnier-schaffhausen/2030-04-18/
LOCATION:The Uncommon Shop Schaffhausen\, Beckenstube 2\, Schaffhausen\, 8200\, Switzerland
CATEGORIES:Tournois
ATTACH;FMTTYPE=image/jpeg:https://theuncommonshop.ch/wp-content/uploads/2025/12/One-piece.jpg
ORGANIZER;CN="The Uncommon Shop GmbH":MAILTO:info@theuncommonshop.ch
END:VEVENT
BEGIN:VEVENT
DTSTART;TZID=Europe/Zurich:20300419T170000
DTEND;TZID=Europe/Zurich:20300419T230000
DTSTAMP:20260419T163653
CREATED:20260319T110738Z
LAST-MODIFIED:20260325T125430Z
UID:10007128-1902848400-1902870000@theuncommonshop.ch
SUMMARY:Friday Night Magic
DESCRIPTION:Chaque vendredi\, c’est la Commander Night dans les magasins Uncommon de Romanshorn et Schaffhouse. Passez nous voir !
URL:https://theuncommonshop.ch/fr/event/friday-night-magic-4/2030-04-19/
LOCATION:The Uncommon Shop Romanshorn & Schaffhausen\, Bahnhofstrasse 16 / Beckenstube 2\, Romanshorn / Schaffhausen\, 8590 / 8200
CATEGORIES:Tournois
ATTACH;FMTTYPE=image/jpeg:https://theuncommonshop.ch/wp-content/uploads/2025/12/Kalender-Anzeige-1.jpg
ORGANIZER;CN="The Uncommon Shop GmbH":MAILTO:info@theuncommonshop.ch
END:VEVENT
BEGIN:VEVENT
DTSTART;TZID=Europe/Zurich:20300419T180000
DTEND;TZID=Europe/Zurich:20300419T210000
DTSTAMP:20260419T163653
CREATED:20260330T143048Z
LAST-MODIFIED:20260330T143112Z
UID:10009383-1902852000-1902862800@theuncommonshop.ch
SUMMARY:Dragonball TCG Tournament Event
DESCRIPTION:Préparer Bandai TCG Plus pour la connexion
URL:https://theuncommonshop.ch/fr/event/dragonball-tcg-tournament-event/2030-04-19/
CATEGORIES:Tournois
ATTACH;FMTTYPE=image/png:https://theuncommonshop.ch/wp-content/uploads/2026/03/9.png
END:VEVENT
END:VCALENDAR