BEGIN:VCALENDAR
VERSION:2.0
PRODID:-//Largest trading card shop in Switzerland - ECPv6.15.20//NONSGML v1.0//EN
CALSCALE:GREGORIAN
METHOD:PUBLISH
X-WR-CALNAME:Largest trading card shop in Switzerland
X-ORIGINAL-URL:https://theuncommonshop.ch
X-WR-CALDESC:Veranstaltungen für Largest trading card shop in Switzerland
REFRESH-INTERVAL;VALUE=DURATION:PT1H
X-Robots-Tag:noindex
X-PUBLISHED-TTL:PT1H
BEGIN:VTIMEZONE
TZID:Europe/Zurich
BEGIN:DAYLIGHT
TZOFFSETFROM:+0100
TZOFFSETTO:+0200
TZNAME:CEST
DTSTART:20250330T010000
END:DAYLIGHT
BEGIN:STANDARD
TZOFFSETFROM:+0200
TZOFFSETTO:+0100
TZNAME:CET
DTSTART:20251026T010000
END:STANDARD
BEGIN:DAYLIGHT
TZOFFSETFROM:+0100
TZOFFSETTO:+0200
TZNAME:CEST
DTSTART:20260329T010000
END:DAYLIGHT
BEGIN:STANDARD
TZOFFSETFROM:+0200
TZOFFSETTO:+0100
TZNAME:CET
DTSTART:20261025T010000
END:STANDARD
BEGIN:DAYLIGHT
TZOFFSETFROM:+0100
TZOFFSETTO:+0200
TZNAME:CEST
DTSTART:20270328T010000
END:DAYLIGHT
BEGIN:STANDARD
TZOFFSETFROM:+0200
TZOFFSETTO:+0100
TZNAME:CET
DTSTART:20271031T010000
END:STANDARD
END:VTIMEZONE
BEGIN:VEVENT
DTSTART;VALUE=DATE:20261030
DTEND;VALUE=DATE:20261031
DTSTAMP:20260423T125656
CREATED:20260422T171016Z
LAST-MODIFIED:20260422T171016Z
UID:370641-1793318400-1793404799@theuncommonshop.ch
SUMMARY:Gundam Card Game - GD06 - Booster Display
DESCRIPTION:„Mobile Suit Gundam ZZ“ hält als neuer Titel Einzug ins GUNDAM CARD GAME und präsentiert legendäre Einheiten wie den ZZ Gundam. \nVerstärkt bestehende Decks\nEnthält zahlreiche Karten\, die darauf ausgelegt sind\, Decks aus GD05 und früheren Sets zu verbessern\, was diese Erweiterung sowohl für bestehende Spieler als auch für den Wettkampfbereich unverzichtbar macht. \nHohe Sammlerwertigkeit durch Karten mit alternativen Illustrationen\nEs sind eine Vielzahl von Karten mit alternativen Illustrationen in verschiedenen Seltenheitsstufen enthalten\, die sowohl Sammler als auch Spieler ansprechen\, die nach Premium-Artikeln suchen. \nInhalt:\n• 1 Booster-Pack = 12 Karten\n• 1 Display = 24 Packs
URL:https://theuncommonshop.ch/event/gundam-card-game-gd06-booster-display/
CATEGORIES:Product Releases
ATTACH;FMTTYPE=image/jpeg:https://theuncommonshop.ch/wp-content/uploads/2026/04/GUNSOON-768x768-1.jpg
ORGANIZER;CN="Product Releases":MAILTO:info@theuncommonshop.ch
END:VEVENT
END:VCALENDAR