BEGIN:VCALENDAR
VERSION:2.0
PRODID:-//Largest trading card shop in Switzerland - ECPv6.15.20//NONSGML v1.0//EN
CALSCALE:GREGORIAN
METHOD:PUBLISH
X-WR-CALNAME:Largest trading card shop in Switzerland
X-ORIGINAL-URL:https://theuncommonshop.ch
X-WR-CALDESC:Veranstaltungen für Largest trading card shop in Switzerland
REFRESH-INTERVAL;VALUE=DURATION:PT1H
X-Robots-Tag:noindex
X-PUBLISHED-TTL:PT1H
BEGIN:VTIMEZONE
TZID:Europe/Zurich
BEGIN:DAYLIGHT
TZOFFSETFROM:+0100
TZOFFSETTO:+0200
TZNAME:CEST
DTSTART:20250330T010000
END:DAYLIGHT
BEGIN:STANDARD
TZOFFSETFROM:+0200
TZOFFSETTO:+0100
TZNAME:CET
DTSTART:20251026T010000
END:STANDARD
BEGIN:DAYLIGHT
TZOFFSETFROM:+0100
TZOFFSETTO:+0200
TZNAME:CEST
DTSTART:20260329T010000
END:DAYLIGHT
BEGIN:STANDARD
TZOFFSETFROM:+0200
TZOFFSETTO:+0100
TZNAME:CET
DTSTART:20261025T010000
END:STANDARD
BEGIN:DAYLIGHT
TZOFFSETFROM:+0100
TZOFFSETTO:+0200
TZNAME:CEST
DTSTART:20270328T010000
END:DAYLIGHT
BEGIN:STANDARD
TZOFFSETFROM:+0200
TZOFFSETTO:+0100
TZNAME:CET
DTSTART:20271031T010000
END:STANDARD
END:VTIMEZONE
BEGIN:VEVENT
DTSTART;VALUE=DATE:20261211
DTEND;VALUE=DATE:20261212
DTSTAMP:20260423T163823
CREATED:20260422T190925Z
LAST-MODIFIED:20260422T190925Z
UID:370665-1796947200-1797033599@theuncommonshop.ch
SUMMARY:Dragon Ball Super - Fusion World - FS14 - Starter Deck
DESCRIPTION:Inhalt: \n\nGoku & Vegeta als Leader-Karten\n4 SR-Karten\n1 garantierte Foil-Karte im Bonus-Pack\nChance auf Full-Foil-Deck\n51-Karten-Deck\nEnergy Marker Set\n1 Bonus-Pack
URL:https://theuncommonshop.ch/event/dragon-ball-super-fusion-world-fs14-starter-deck/
CATEGORIES:Product Releases
ATTACH;FMTTYPE=image/png:https://theuncommonshop.ch/wp-content/uploads/2026/04/DBSUPER.png
ORGANIZER;CN="Product Releases":MAILTO:info@theuncommonshop.ch
END:VEVENT
END:VCALENDAR